BEGIN:VCALENDAR
PRODID:-//PUBBLE//agenda//NL
VERSION:2.0
METHOD:PUBLISH
BEGIN:VEVENT
DTSTART:20190208T065200Z
DTEND:20190219T130000Z
DTSTAMP:20260421T165723Z
UID:e8c434e2-0aea-4766-869a-925117cc59b9
CREATED:20260421T165723Z
NAME:Inloop Café om het beste uit jezelf te halen internetbode.nl
X-WR-CALNAME:Inloop Café om het beste uit jezelf te halen
X-ALT-DESC;FMTTYPE=text/html:<a href='/roosendaal/agenda/2019/2/19/inloop-cafe-om-het-beste-uit-jezelf-te-halen-278605'>/roosendaal/agenda/2019/2/19/inloop-cafe-om-het-beste-uit-jezelf-te-halen-278605</a> || <p>Om erachter te komen of werken bij Groenhuysen bij je past, organiseren we &eacute;&eacute;n keer per maand van 13.00 tot 15.00 uur een Inloop Caf&eacute; waar je geheel vrijblijvend kunt binnenlopen. Gewoon, om onder het genot van een hapje en een drankje, eens te kijken wat er allemaal mogelijk is bij ons. Ook als je nog geen ervaring hebt in de zorg, maar wel het hart op de juiste plaats, nodigen we je van harte uit om langs te komen.&nbsp;Elke maand organiseren we het Inloop Caf&eacute; op een andere locatie. Voor het volgende Inloop Caf&eacute; ben je op dinsdag 19 februari tussen 13.00 en 15.00 uur van harte welkom bij centrum voor Wonen &amp; Zorg De Bloemschevaert, Covellijndijk 116-A, Roosendaal.</p>



DESCRIPTION:<a href='/roosendaal/agenda/2019/2/19/inloop-cafe-om-het-beste-uit-jezelf-te-halen-278605'>/roosendaal/agenda/2019/2/19/inloop-cafe-om-het-beste-uit-jezelf-te-halen-278605</a> || <p>Om erachter te komen of werken bij Groenhuysen bij je past, organiseren we &eacute;&eacute;n keer per maand van 13.00 tot 15.00 uur een Inloop Caf&eacute; waar je geheel vrijblijvend kunt binnenlopen. Gewoon, om onder het genot van een hapje en een drankje, eens te kijken wat er allemaal mogelijk is bij ons. Ook als je nog geen ervaring hebt in de zorg, maar wel het hart op de juiste plaats, nodigen we je van harte uit om langs te komen.&nbsp;Elke maand organiseren we het Inloop Caf&eacute; op een andere locatie. Voor het volgende Inloop Caf&eacute; ben je op dinsdag 19 februari tussen 13.00 en 15.00 uur van harte welkom bij centrum voor Wonen &amp; Zorg De Bloemschevaert, Covellijndijk 116-A, Roosendaal.</p>



LAST-MODIFIED:20260421T165723Z
LOCATION: Centrum voor Wonen & Zorg De Bloemschevaert | Covellijndijk 116a Roosendaal
SEQUENCE:0
STATUS:CONFIRMED
SUMMARY:Inloop Café om het beste uit jezelf te halen
TRANSP:OPAQUE
END:VEVENT
END:VCALENDAR
