BEGIN:VCALENDAR
PRODID:-//PUBBLE//agenda//NL
VERSION:2.0
METHOD:PUBLISH
BEGIN:VEVENT
DTSTART:20220608T220000Z
DTEND:20220608T230000Z
DTSTAMP:20260422T171942Z
UID:17f7a508-593c-4693-964e-82f68b90b299
CREATED:20260422T171942Z
NAME:Klundert op een Kluitje internetbode.nl
X-WR-CALNAME:Klundert op een Kluitje
X-ALT-DESC;FMTTYPE=text/html:<a href='/moerdijk/agenda/2022/6/25/klundert-op-een-kluitje-364743'>/moerdijk/agenda/2022/6/25/klundert-op-een-kluitje-364743</a> || <p>Programma zaterdag 25 juni:<br />Braderie:&nbsp;12:00 – 22:00<br />Kermis: 10:00 – 00:00<br />Hoofdpodium: 13:00 – 14:00 Spido; 14:00 – 15:30: Determinato; 15:30 – 16:15: #Reflex; 16:15 – 16:45 Tam Tam Fola D’Afrique; 16:45 – 23:30 WE GO BACK!; 23:30 – 00:45 DJ Gijs Schuurmans<br />Molenstraatpodium: 14:30 – 17:30 Double Triple; 18:30 – 22:00 Daans Dance Band </p>
DESCRIPTION:<a href='/moerdijk/agenda/2022/6/25/klundert-op-een-kluitje-364743'>/moerdijk/agenda/2022/6/25/klundert-op-een-kluitje-364743</a> || <p>Programma zaterdag 25 juni:<br />Braderie:&nbsp;12:00 – 22:00<br />Kermis: 10:00 – 00:00<br />Hoofdpodium: 13:00 – 14:00 Spido; 14:00 – 15:30: Determinato; 15:30 – 16:15: #Reflex; 16:15 – 16:45 Tam Tam Fola D’Afrique; 16:45 – 23:30 WE GO BACK!; 23:30 – 00:45 DJ Gijs Schuurmans<br />Molenstraatpodium: 14:30 – 17:30 Double Triple; 18:30 – 22:00 Daans Dance Band </p>
LAST-MODIFIED:20260422T171942Z
LOCATION: Centrum |   Klundert
SEQUENCE:0
STATUS:CONFIRMED
SUMMARY:Klundert op een Kluitje
TRANSP:OPAQUE
END:VEVENT
END:VCALENDAR
