BEGIN:VCALENDAR
PRODID:-//PUBBLE//agenda//NL
VERSION:2.0
METHOD:PUBLISH
BEGIN:VEVENT
DTSTART:20221004T075257Z
DTEND:20221004T085257Z
DTSTAMP:20260425T153109Z
UID:90f5d2bd-cc36-4f82-a835-bf6a29ae6ac8
CREATED:20260425T153109Z
NAME:Uitnodiging The Milldancers internetbode.nl
X-WR-CALNAME:Uitnodiging The Milldancers
X-ALT-DESC;FMTTYPE=text/html:<a href='/rucphen/agenda/2022/10/9/uitnodiging-the-milldancers-372696'>/rucphen/agenda/2022/10/9/uitnodiging-the-milldancers-372696</a> || <p>The Milldancers houden op zondag 9 oktober van 13.00 tot 17.00 uur een dansmiddag in De Trapkes in Sprundel. Iedereen kan er aan meedoen. Een gelegenheid om kennis te maken met line dance. De entree is vrij.</p>
DESCRIPTION:<a href='/rucphen/agenda/2022/10/9/uitnodiging-the-milldancers-372696'>/rucphen/agenda/2022/10/9/uitnodiging-the-milldancers-372696</a> || <p>The Milldancers houden op zondag 9 oktober van 13.00 tot 17.00 uur een dansmiddag in De Trapkes in Sprundel. Iedereen kan er aan meedoen. Een gelegenheid om kennis te maken met line dance. De entree is vrij.</p>
LAST-MODIFIED:20260425T153109Z
LOCATION: Dorpshuis de Trapkes | Kloosterplein 3 Sprundel
SEQUENCE:0
STATUS:CONFIRMED
SUMMARY:Uitnodiging The Milldancers
TRANSP:OPAQUE
END:VEVENT
END:VCALENDAR
