BEGIN:VCALENDAR
PRODID:-//PUBBLE//agenda//NL
VERSION:2.0
METHOD:PUBLISH
BEGIN:VEVENT
DTSTART:20240419T135003Z
DTEND:20240427T103000Z
DTSTAMP:20260425T165242Z
UID:be2dbd7a-6965-46b3-9eb5-a057742d4e86
CREATED:20260425T165242Z
NAME:Stekkenbeurs internetbode.nl
X-WR-CALNAME:Stekkenbeurs
X-ALT-DESC;FMTTYPE=text/html:<a href='/halderberge/agenda/2024/4/27/stekkenbeurs-416103'>/halderberge/agenda/2024/4/27/stekkenbeurs-416103</a> || <p>Op zaterdag 27 april organiseert Groei &amp; Bloei afdeling Roosendaal de jaarlijkse stekkenbeurs. Naast (bijzondere) stekjes worden er ook andere producten aangeboden zoals honing, keramiek of handgemaakte sieraden. De entree is gratis en u wordt verwelkomd met een kopje koffie/thee met wat lekkers. De beurs vindt plaats bij B&amp;B De Luijenbergh, Langenbergsestraat 17, 4751TC Oud Gastel. Er is voldoende parkeergelegenheid op de grote weide, achteraan op het terrein. De beurs start om 10.00 uur. Sluiting rond 12.30 uur</p>
DESCRIPTION:<a href='/halderberge/agenda/2024/4/27/stekkenbeurs-416103'>/halderberge/agenda/2024/4/27/stekkenbeurs-416103</a> || <p>Op zaterdag 27 april organiseert Groei &amp; Bloei afdeling Roosendaal de jaarlijkse stekkenbeurs. Naast (bijzondere) stekjes worden er ook andere producten aangeboden zoals honing, keramiek of handgemaakte sieraden. De entree is gratis en u wordt verwelkomd met een kopje koffie/thee met wat lekkers. De beurs vindt plaats bij B&amp;B De Luijenbergh, Langenbergsestraat 17, 4751TC Oud Gastel. Er is voldoende parkeergelegenheid op de grote weide, achteraan op het terrein. De beurs start om 10.00 uur. Sluiting rond 12.30 uur</p>
LAST-MODIFIED:20260425T165242Z
LOCATION: B&B De Luijenbergh | Langenbergsestraat 17 Oud Gastel
SEQUENCE:0
STATUS:CONFIRMED
SUMMARY:Stekkenbeurs
TRANSP:OPAQUE
END:VEVENT
END:VCALENDAR
