BEGIN:VCALENDAR
PRODID:-//PUBBLE//agenda//NL
VERSION:2.0
METHOD:PUBLISH
BEGIN:VEVENT
DTSTART:20241111T124512Z
DTEND:20241111T134512Z
DTSTAMP:20260419T125828Z
UID:c9207bcd-0b66-49ec-b858-1fdf428dbb34
CREATED:20260419T125828Z
NAME:Solo-expositie en boekpresentatie Trouwkerkje internetbode.nl
X-WR-CALNAME:Solo-expositie en boekpresentatie Trouwkerkje
X-ALT-DESC;FMTTYPE=text/html:<a href='/etten-leur/agenda/2024/11/23/solo-expositie-en-boekpresentatie-trouwkerkje-432465'>/etten-leur/agenda/2024/11/23/solo-expositie-en-boekpresentatie-trouwkerkje-432465</a> || <p>In het weekend van 23 en 24 november vindt in het Trouwkerkje in Etten-Leur een expositie plaats van pentekeningen door Hanneke Messelink-Anders. De tentoonstelling is geïnspireerd door het boek “Ode aan de Vogels, in berijmde pentekeningen”, dat ze samen met haar echtgenoot Henk publiceerde. Het boek, enthousiast ontvangen door natuur- en vogelliefhebbers, bevat rijmende pentekeningen van verschillende vogelsoorten. De expositie is gratis te bezoeken op zaterdag van 10.30 tot 17.00 uur en zondag van 10.30 tot 16.00 uur. De officiële opening, inclusief boekpresentatie, vindt plaats op 23 november om 11.30 uur door wethouder Rene Verwijmeren. Meer info: www.kunstanders.com </p>
DESCRIPTION:<a href='/etten-leur/agenda/2024/11/23/solo-expositie-en-boekpresentatie-trouwkerkje-432465'>/etten-leur/agenda/2024/11/23/solo-expositie-en-boekpresentatie-trouwkerkje-432465</a> || <p>In het weekend van 23 en 24 november vindt in het Trouwkerkje in Etten-Leur een expositie plaats van pentekeningen door Hanneke Messelink-Anders. De tentoonstelling is geïnspireerd door het boek “Ode aan de Vogels, in berijmde pentekeningen”, dat ze samen met haar echtgenoot Henk publiceerde. Het boek, enthousiast ontvangen door natuur- en vogelliefhebbers, bevat rijmende pentekeningen van verschillende vogelsoorten. De expositie is gratis te bezoeken op zaterdag van 10.30 tot 17.00 uur en zondag van 10.30 tot 16.00 uur. De officiële opening, inclusief boekpresentatie, vindt plaats op 23 november om 11.30 uur door wethouder Rene Verwijmeren. Meer info: www.kunstanders.com </p>
LAST-MODIFIED:20260419T125828Z
LOCATION: Trouwkerkje | Van Bergenplein 1 Etten-Leur
SEQUENCE:0
STATUS:CONFIRMED
SUMMARY:Solo-expositie en boekpresentatie Trouwkerkje
TRANSP:OPAQUE
END:VEVENT
END:VCALENDAR
