BEGIN:VCALENDAR
PRODID:-//PUBBLE//agenda//NL
VERSION:2.0
METHOD:PUBLISH
BEGIN:VEVENT
DTSTART:20241129T084953Z
DTEND:20241129T094953Z
DTSTAMP:20260419T153700Z
UID:e58e5953-4ed7-40c8-860e-b3d43bd09293
CREATED:20260419T153700Z
NAME:Bingomiddag internetbode.nl
X-WR-CALNAME:Bingomiddag
X-ALT-DESC;FMTTYPE=text/html:<a href='/bergen-op-zoom/agenda/2024/12/10/bingomiddag-434031'>/bergen-op-zoom/agenda/2024/12/10/bingomiddag-434031</a> || <p>Op dinsdag 10 december is er weer een bingomiddag bij het Senioren Netwerk Lepelstraat. De deuren staan open vanaf 13:00 uur en we gaan draaien om 13:30 uur. Dit in het gemeenschapshuis, Kerkstraat 84, Lepelstraat. We draaien 12 rondes en een superronde. Ook hebben we weer een gratis verloting. Kom met vrienden en kennissen naar onze middag.</p>
DESCRIPTION:<a href='/bergen-op-zoom/agenda/2024/12/10/bingomiddag-434031'>/bergen-op-zoom/agenda/2024/12/10/bingomiddag-434031</a> || <p>Op dinsdag 10 december is er weer een bingomiddag bij het Senioren Netwerk Lepelstraat. De deuren staan open vanaf 13:00 uur en we gaan draaien om 13:30 uur. Dit in het gemeenschapshuis, Kerkstraat 84, Lepelstraat. We draaien 12 rondes en een superronde. Ook hebben we weer een gratis verloting. Kom met vrienden en kennissen naar onze middag.</p>
LAST-MODIFIED:20260419T153700Z
LOCATION: Gemeenschapshuis Patronaat | Kerkstraat 84 Lepelstraat
SEQUENCE:0
STATUS:CONFIRMED
SUMMARY:Bingomiddag
TRANSP:OPAQUE
END:VEVENT
END:VCALENDAR
