BEGIN:VCALENDAR
PRODID:-//PUBBLE//agenda//NL
VERSION:2.0
METHOD:PUBLISH
BEGIN:VEVENT
DTSTART:20250620T173000Z
DTEND:20250620T215900Z
DTSTAMP:20260424T200010Z
UID:fab4a932-725c-488b-84b6-0b166e3cc785
CREATED:20260424T200010Z
NAME:Feest in de tent! internetbode.nl
X-WR-CALNAME:Feest in de tent!
X-ALT-DESC;FMTTYPE=text/html:<a href='/bergen-op-zoom/agenda/2025/6/20/feest-in-de-tent--445494'>/bergen-op-zoom/agenda/2025/6/20/feest-in-de-tent--445494</a> || <p>Harmonie Sint Antonius in Lepelstraat viert dit jaar haar 100-jarig bestaan. Ter gelegenheid van dit jubileum organiseren zij een waar dorpsfeest genaamd: “Feest in de tent”. Dit feest vindt plaatst in de tent van het Groen Gras Festival aan de Kruisweg 4 in Lepelstraat. Deze avond zal de jubilerende harmonie onder leiding van dirigent Marcel Hartendorp o.a. een optreden verzorgen samen met het leerorkest en de symfonische metal band Kingdom Divided. Tevens zal er een groot gelegenheidorkest geformeerd worden met meer 100 muzikanten variërend van beginners tot professionals. Vanaf 21:00 uur zullen er tijdens het open podium tal van bands en zanggroepen een optreden verzorgen. Kortom een avondvullend programma! Entree is gratis.</p>
DESCRIPTION:<a href='/bergen-op-zoom/agenda/2025/6/20/feest-in-de-tent--445494'>/bergen-op-zoom/agenda/2025/6/20/feest-in-de-tent--445494</a> || <p>Harmonie Sint Antonius in Lepelstraat viert dit jaar haar 100-jarig bestaan. Ter gelegenheid van dit jubileum organiseren zij een waar dorpsfeest genaamd: “Feest in de tent”. Dit feest vindt plaatst in de tent van het Groen Gras Festival aan de Kruisweg 4 in Lepelstraat. Deze avond zal de jubilerende harmonie onder leiding van dirigent Marcel Hartendorp o.a. een optreden verzorgen samen met het leerorkest en de symfonische metal band Kingdom Divided. Tevens zal er een groot gelegenheidorkest geformeerd worden met meer 100 muzikanten variërend van beginners tot professionals. Vanaf 21:00 uur zullen er tijdens het open podium tal van bands en zanggroepen een optreden verzorgen. Kortom een avondvullend programma! Entree is gratis.</p>
LAST-MODIFIED:20260424T200010Z
LOCATION: Kruisweg 4 |   Lepelstraat
SEQUENCE:0
STATUS:CONFIRMED
SUMMARY:Feest in de tent!
TRANSP:OPAQUE
END:VEVENT
END:VCALENDAR
