BEGIN:VCALENDAR
PRODID:-//PUBBLE//agenda//NL
VERSION:2.0
METHOD:PUBLISH
BEGIN:VEVENT
DTSTART:20250610T163000Z
DTEND:20250613T180000Z
DTSTAMP:20260425T034848Z
UID:bd19e4b4-05d3-4aae-a39d-acc12111c5de
CREATED:20260425T034848Z
NAME:Avond4daagse van Huijbergen internetbode.nl
X-WR-CALNAME:Avond4daagse van Huijbergen
X-ALT-DESC;FMTTYPE=text/html:<a href='/woensdrecht/agenda/2025/6/10/avond4daagse-van-huijbergen-449176'>/woensdrecht/agenda/2025/6/10/avond4daagse-van-huijbergen-449176</a> || <p>In Huijbergen viert men een jubileum met de 25e editie van de Avond4daagse van Wandelende Tak van Vivoo. Deze zal plaats vinden van dinsdag 10 juni tot en met vrijdag 13 juni. Het vertrek voor de 5 en 10 km is iedere avond van 18.30 tot 19.00 uur vanaf de Tennisvereniging, Waterdrieblad 1A, Huijbergen. Voorinschrijving kan via een QR code. Deze is te vinden is op de Facebookpagina van de Wandelende Tak. De kosten bij voorinschrijving zijn 5 euro per persoon inclusief medaille voor 4 dagen. Zonder voorinschrijving is de prijs 6 euro. Per dag kan ook, voor 1,50 euro per dag. De Avond4daagse wordt op vrijdagavond weer afgesloten met het alom bekende Blarenbal. Voor meer informatie: Yvonne de Waal-Jansen, 06 53398061 of Gerald de Waal, 06 30096814.</p>
DESCRIPTION:<a href='/woensdrecht/agenda/2025/6/10/avond4daagse-van-huijbergen-449176'>/woensdrecht/agenda/2025/6/10/avond4daagse-van-huijbergen-449176</a> || <p>In Huijbergen viert men een jubileum met de 25e editie van de Avond4daagse van Wandelende Tak van Vivoo. Deze zal plaats vinden van dinsdag 10 juni tot en met vrijdag 13 juni. Het vertrek voor de 5 en 10 km is iedere avond van 18.30 tot 19.00 uur vanaf de Tennisvereniging, Waterdrieblad 1A, Huijbergen. Voorinschrijving kan via een QR code. Deze is te vinden is op de Facebookpagina van de Wandelende Tak. De kosten bij voorinschrijving zijn 5 euro per persoon inclusief medaille voor 4 dagen. Zonder voorinschrijving is de prijs 6 euro. Per dag kan ook, voor 1,50 euro per dag. De Avond4daagse wordt op vrijdagavond weer afgesloten met het alom bekende Blarenbal. Voor meer informatie: Yvonne de Waal-Jansen, 06 53398061 of Gerald de Waal, 06 30096814.</p>
LAST-MODIFIED:20260425T034848Z
LOCATION: T.V. Huijbergen | Waterdrieblad 3 Huijbergen
SEQUENCE:0
STATUS:CONFIRMED
SUMMARY:Avond4daagse van Huijbergen
TRANSP:OPAQUE
END:VEVENT
END:VCALENDAR
