BEGIN:VCALENDAR
PRODID:-//PUBBLE//agenda//NL
VERSION:2.0
METHOD:PUBLISH
BEGIN:VEVENT
DTSTART:20250705T113000Z
DTEND:20250705T130000Z
DTSTAMP:20260424T160403Z
UID:14c7d5ef-5c5a-4a88-aa79-6398738645cc
CREATED:20260424T160403Z
NAME:Kom Kuieren in Klundert internetbode.nl
X-WR-CALNAME:Kom Kuieren in Klundert
X-ALT-DESC;FMTTYPE=text/html:<a href='/moerdijk/agenda/2025/7/5/kom-kuieren-in-klundert-450207'>/moerdijk/agenda/2025/7/5/kom-kuieren-in-klundert-450207</a> || <p>Ga zaterdag 5 juli mee aan de wandel met de Klundertse stadsgidsen. Maak op een ontspannen en gezellige manier kennis met het mooie Klundert en zijn interessante geschiedenis. Aanvang 13.30 uur bij “De Stad Klundert” (Molenstraat 33). Duur ca 1,5 uur. De groepen bestaan uit max. 10 personen. Opgeven tot 12.00 uur op de voorafgaande dag bij coördinator Niek (06-33992793). Kosten: € 4,- p.p.</p>
DESCRIPTION:<a href='/moerdijk/agenda/2025/7/5/kom-kuieren-in-klundert-450207'>/moerdijk/agenda/2025/7/5/kom-kuieren-in-klundert-450207</a> || <p>Ga zaterdag 5 juli mee aan de wandel met de Klundertse stadsgidsen. Maak op een ontspannen en gezellige manier kennis met het mooie Klundert en zijn interessante geschiedenis. Aanvang 13.30 uur bij “De Stad Klundert” (Molenstraat 33). Duur ca 1,5 uur. De groepen bestaan uit max. 10 personen. Opgeven tot 12.00 uur op de voorafgaande dag bij coördinator Niek (06-33992793). Kosten: € 4,- p.p.</p>
LAST-MODIFIED:20260424T160403Z
LOCATION: de Stad Klundert | Molenstraat 33 Klundert
SEQUENCE:0
STATUS:CONFIRMED
SUMMARY:Kom Kuieren in Klundert
TRANSP:OPAQUE
END:VEVENT
END:VCALENDAR
