BEGIN:VCALENDAR
PRODID:-//PUBBLE//agenda//NL
VERSION:2.0
METHOD:PUBLISH
BEGIN:VEVENT
DTSTART:20250718T065046Z
DTEND:20250718T075046Z
DTSTAMP:20260424T150446Z
UID:7352758d-6f7c-427b-81f3-ec23a46e5ea6
CREATED:20260424T150446Z
NAME:Rondje Huijbergen met IVN internetbode.nl
X-WR-CALNAME:Rondje Huijbergen met IVN
X-ALT-DESC;FMTTYPE=text/html:<a href='/woensdrecht/agenda/2025/8/3/rondje-huijbergen-met-ivn-453148'>/woensdrecht/agenda/2025/8/3/rondje-huijbergen-met-ivn-453148</a> || <p><strong>Rond Huijbergen liggen prachtige natuurgebieden en cultuurhistorisch is deze omgeving ook zeer interessant. Op zondag 3 augustus verzorgt IVN Groene Zoom een excursie met veel reliëf en mooie panorama’s.</strong></p><p>De prachtige natuurwandeling begint en eindigt bij Molen Johanna. Gids Fred Severin zal zeker niet nalaten over de geschiedenis van Huijbergen te vertellen. Huijbergen ligt namelijk in een sikkelduin. Deze oeroude formatie zorgt voor kuitenbijters als de Nootjesberg, Tiestenberg, Schoelieberg en de Pilberg. De tocht gaat verder door de voormalige kloostertuin van de broeders van Huijbergen en via het Eiland weer terug naar de molen.&nbsp;</p><h2 class="Tussenkop02"><strong>Praktische informatie</strong></h2><p>Start op zondag 3 augustus om 10.00 uur bij Molen Johanna, Bergsestraat 25a, Huijbergen. De lengte van de wandeling bedraagt ongeveer 6 km. Deelname is gratis. Tip: wandelschoenen en een verrekijker.</p>
DESCRIPTION:<a href='/woensdrecht/agenda/2025/8/3/rondje-huijbergen-met-ivn-453148'>/woensdrecht/agenda/2025/8/3/rondje-huijbergen-met-ivn-453148</a> || <p><strong>Rond Huijbergen liggen prachtige natuurgebieden en cultuurhistorisch is deze omgeving ook zeer interessant. Op zondag 3 augustus verzorgt IVN Groene Zoom een excursie met veel reliëf en mooie panorama’s.</strong></p><p>De prachtige natuurwandeling begint en eindigt bij Molen Johanna. Gids Fred Severin zal zeker niet nalaten over de geschiedenis van Huijbergen te vertellen. Huijbergen ligt namelijk in een sikkelduin. Deze oeroude formatie zorgt voor kuitenbijters als de Nootjesberg, Tiestenberg, Schoelieberg en de Pilberg. De tocht gaat verder door de voormalige kloostertuin van de broeders van Huijbergen en via het Eiland weer terug naar de molen.&nbsp;</p><h2 class="Tussenkop02"><strong>Praktische informatie</strong></h2><p>Start op zondag 3 augustus om 10.00 uur bij Molen Johanna, Bergsestraat 25a, Huijbergen. De lengte van de wandeling bedraagt ongeveer 6 km. Deelname is gratis. Tip: wandelschoenen en een verrekijker.</p>
LAST-MODIFIED:20260424T150446Z
LOCATION: Molen Johanna | Bergsestraat 25a Huijbergen
SEQUENCE:0
STATUS:CONFIRMED
SUMMARY:Rondje Huijbergen met IVN
TRANSP:OPAQUE
END:VEVENT
END:VCALENDAR
