BEGIN:VCALENDAR
PRODID:-//PUBBLE//agenda//NL
VERSION:2.0
METHOD:PUBLISH
BEGIN:VEVENT
DTSTART:20250906T113000Z
DTEND:20250906T130000Z
DTSTAMP:20260425T014535Z
UID:f28c43a6-9ba0-4b4a-be9e-d68452bc433f
CREATED:20260425T014535Z
NAME:Kom kuieren in Klundert internetbode.nl
X-WR-CALNAME:Kom kuieren in Klundert
X-ALT-DESC;FMTTYPE=text/html:<a href='/moerdijk/agenda/2025/9/6/kom-kuieren-in-klundert-454639'>/moerdijk/agenda/2025/9/6/kom-kuieren-in-klundert-454639</a> || <p>Ga zaterdag 6 september mee aan de wandel met de Klundertse stadsgidsen. Tijdens deze wandeling maakt u op een ontspannen en gezellige manier kennis met het mooie Klundert en zijn interessante geschiedenis. De wandeling start om 13.30 uur bij “De Stad Klundert” (Molenstraat 33) en duurt ca 1,5 uur. De groepen bestaan uit maximaal 10 personen. Rolstoelen of kinderwagens (na overleg) geen probleem &nbsp;Wie mee wil wandelen kan zich tot 12.00 uur op de voorafgaande dag opgeven bij coördinator Niek Tolenaars (06-33992793). De kosten bedragen € 4,- per persoon, contant bij de gids te voldoen.</p>
DESCRIPTION:<a href='/moerdijk/agenda/2025/9/6/kom-kuieren-in-klundert-454639'>/moerdijk/agenda/2025/9/6/kom-kuieren-in-klundert-454639</a> || <p>Ga zaterdag 6 september mee aan de wandel met de Klundertse stadsgidsen. Tijdens deze wandeling maakt u op een ontspannen en gezellige manier kennis met het mooie Klundert en zijn interessante geschiedenis. De wandeling start om 13.30 uur bij “De Stad Klundert” (Molenstraat 33) en duurt ca 1,5 uur. De groepen bestaan uit maximaal 10 personen. Rolstoelen of kinderwagens (na overleg) geen probleem &nbsp;Wie mee wil wandelen kan zich tot 12.00 uur op de voorafgaande dag opgeven bij coördinator Niek Tolenaars (06-33992793). De kosten bedragen € 4,- per persoon, contant bij de gids te voldoen.</p>
LAST-MODIFIED:20260425T014535Z
LOCATION: de Stad Klundert | Molenstraat 33 Klundert
SEQUENCE:0
STATUS:CONFIRMED
SUMMARY:Kom kuieren in Klundert
TRANSP:OPAQUE
END:VEVENT
END:VCALENDAR
