BEGIN:VCALENDAR
PRODID:-//PUBBLE//agenda//NL
VERSION:2.0
METHOD:PUBLISH
BEGIN:VEVENT
DTSTART:20250829T150000Z
DTEND:20250829T160000Z
DTSTAMP:20260424T204858Z
UID:6f02be46-6f6a-4f91-b255-dc761d87f384
CREATED:20260424T204858Z
NAME:Feestavond en kermis Huijbergen internetbode.nl
X-WR-CALNAME:Feestavond en kermis Huijbergen
X-ALT-DESC;FMTTYPE=text/html:<a href='/woensdrecht/agenda/2025/8/29/feestavond-en-kermis-huijbergen-455844'>/woensdrecht/agenda/2025/8/29/feestavond-en-kermis-huijbergen-455844</a> || <p>Op vrijdag 29 augustus begint de kermis in Huijbergen. Er komen tot zes attracties te staan, bedoeld voor de wat kleinere kinderen. En diezelfde dag begint in de tent ook het feest. Men trapt af met een barbecue op inschrijving. Deze start om 17.00 uur. Volwassenen betalen 18,50 euro, kinderen 8,50 euro. Dit is exclusief drank, maar inclusief al het eten. Om 20.00 uur start er bovendien een quizavond in de tent in de trant van ‘Wie is de slimste?’. &nbsp;Teams kunnen zich hiervoor inschrijven voor 6 euro per team, van maximaal vijf personen. Er worden drie ronden gespeeld, waaronder eentje met Huijbergse vragen. Vanaf 22.00 uur zal DWS De Waal Speciaal plaatjes draaien tot middernacht. Inschrijven voor de quiz en de barbecue kan via <a data-fr-linked="true" href="mailto:gdewaal@ziggo.nl">gdewaal@ziggo.nl</a>.</p>
DESCRIPTION:<a href='/woensdrecht/agenda/2025/8/29/feestavond-en-kermis-huijbergen-455844'>/woensdrecht/agenda/2025/8/29/feestavond-en-kermis-huijbergen-455844</a> || <p>Op vrijdag 29 augustus begint de kermis in Huijbergen. Er komen tot zes attracties te staan, bedoeld voor de wat kleinere kinderen. En diezelfde dag begint in de tent ook het feest. Men trapt af met een barbecue op inschrijving. Deze start om 17.00 uur. Volwassenen betalen 18,50 euro, kinderen 8,50 euro. Dit is exclusief drank, maar inclusief al het eten. Om 20.00 uur start er bovendien een quizavond in de tent in de trant van ‘Wie is de slimste?’. &nbsp;Teams kunnen zich hiervoor inschrijven voor 6 euro per team, van maximaal vijf personen. Er worden drie ronden gespeeld, waaronder eentje met Huijbergse vragen. Vanaf 22.00 uur zal DWS De Waal Speciaal plaatjes draaien tot middernacht. Inschrijven voor de quiz en de barbecue kan via <a data-fr-linked="true" href="mailto:gdewaal@ziggo.nl">gdewaal@ziggo.nl</a>.</p>
LAST-MODIFIED:20260424T204858Z
LOCATION: Kerkplein | Canadaplein 1 Huijbergen
SEQUENCE:0
STATUS:CONFIRMED
SUMMARY:Feestavond en kermis Huijbergen
TRANSP:OPAQUE
END:VEVENT
END:VCALENDAR
