BEGIN:VCALENDAR
PRODID:-//PUBBLE//agenda//NL
VERSION:2.0
METHOD:PUBLISH
BEGIN:VEVENT
DTSTART:20250830T180000Z
DTEND:20250830T190000Z
DTSTAMP:20260424T173659Z
UID:91d9ceb5-eff7-4ed0-b680-950109c97d77
CREATED:20260424T173659Z
NAME:Feestavond in Huijbergen internetbode.nl
X-WR-CALNAME:Feestavond in Huijbergen
X-ALT-DESC;FMTTYPE=text/html:<a href='/woensdrecht/agenda/2025/8/30/feestavond-in-huijbergen-455846'>/woensdrecht/agenda/2025/8/30/feestavond-in-huijbergen-455846</a> || <p>Om 20.00 uur start een feestavond met DJ Bram en aansluitend een optreden van de hoofdact, de band Starstruck, in de feesttent op het Kerkplein. De toegang tot de tent is gratis. Rond 0.00 uur zal het feestgedruis dan weer afnemen en zullen de tentzeilen weer gesloten worden.</p>
DESCRIPTION:<a href='/woensdrecht/agenda/2025/8/30/feestavond-in-huijbergen-455846'>/woensdrecht/agenda/2025/8/30/feestavond-in-huijbergen-455846</a> || <p>Om 20.00 uur start een feestavond met DJ Bram en aansluitend een optreden van de hoofdact, de band Starstruck, in de feesttent op het Kerkplein. De toegang tot de tent is gratis. Rond 0.00 uur zal het feestgedruis dan weer afnemen en zullen de tentzeilen weer gesloten worden.</p>
LAST-MODIFIED:20260424T173659Z
LOCATION: Kerkplein | Canadaplein 1 Huijbergen
SEQUENCE:0
STATUS:CONFIRMED
SUMMARY:Feestavond in Huijbergen
TRANSP:OPAQUE
END:VEVENT
END:VCALENDAR
