BEGIN:VCALENDAR
PRODID:-//PUBBLE//agenda//NL
VERSION:2.0
METHOD:PUBLISH
BEGIN:VEVENT
DTSTART:20250831T090000Z
DTEND:20250831T100000Z
DTSTAMP:20260419T135835Z
UID:02ec7047-f642-4d74-a378-472622b13c34
CREATED:20260419T135835Z
NAME:Braderie en kermis in Huijbergen internetbode.nl
X-WR-CALNAME:Braderie en kermis in Huijbergen
X-ALT-DESC;FMTTYPE=text/html:<a href='/woensdrecht/agenda/2025/8/31/braderie-en-kermis-in-huijbergen-455847'>/woensdrecht/agenda/2025/8/31/braderie-en-kermis-in-huijbergen-455847</a> || <article><p>Op zondag 31 augustus wordt het Huijbergse feestweekend afgesloten met de braderie en de laatste dag van de kermis. Er zullen weer zo’n 60 tot 70 kramen staan, net als vorig jaar, met een professionele opzet. De braderie start om 11.00 uur en duurt tot ongeveer 17.00 uur. De organisatie is net als vorig jaar in handen van Euromarkt/St. Christoffel.</p></article>
DESCRIPTION:<a href='/woensdrecht/agenda/2025/8/31/braderie-en-kermis-in-huijbergen-455847'>/woensdrecht/agenda/2025/8/31/braderie-en-kermis-in-huijbergen-455847</a> || <article><p>Op zondag 31 augustus wordt het Huijbergse feestweekend afgesloten met de braderie en de laatste dag van de kermis. Er zullen weer zo’n 60 tot 70 kramen staan, net als vorig jaar, met een professionele opzet. De braderie start om 11.00 uur en duurt tot ongeveer 17.00 uur. De organisatie is net als vorig jaar in handen van Euromarkt/St. Christoffel.</p></article>
LAST-MODIFIED:20260419T135835Z
LOCATION: dorpskern |   Huijbergen
SEQUENCE:0
STATUS:CONFIRMED
SUMMARY:Braderie en kermis in Huijbergen
TRANSP:OPAQUE
END:VEVENT
END:VCALENDAR
