BEGIN:VCALENDAR
PRODID:-//PUBBLE//agenda//NL
VERSION:2.0
METHOD:PUBLISH
BEGIN:VEVENT
DTSTART:20250907T194717Z
DTEND:20250907T204717Z
DTSTAMP:20260424T172556Z
UID:5e41afef-ec03-48b7-9d65-9be69fa033e7
CREATED:20260424T172556Z
NAME:Huijbergse filmmiddag in De Kloek internetbode.nl
X-WR-CALNAME:Huijbergse filmmiddag in De Kloek
X-ALT-DESC;FMTTYPE=text/html:<a href='/woensdrecht/agenda/2025/9/17/huijbergse-filmmiddag-in-de-kloek-457061'>/woensdrecht/agenda/2025/9/17/huijbergse-filmmiddag-in-de-kloek-457061</a> || <p>Ook dit jaar organiseert het bestuur van Senioren Huijbergen een Huijbergse Filmmiddag in MFC De Kloek in Huijbergen en wel op woensdag 17 september aanstaande. Zoals gebruikelijk is het filmarchief van Huijbergenaar John Kil daarvoor een belangrijke bron, maar er verschijnen óók andere beelden van Huijbergen en Brabant op het witte doek. Er worden beelden vertoond van de Huijbergse rommelmarkt, maar ook een natuurfilm over het Brabantse landschap en beelden van Senioren Huijbergen zelf over het afgelopen verenigingsjaar. De middag is toegankelijk voor leden én niet-leden. De voorstelling begint in MFC De Kloek aan de Prior Borrekensstraat 1 in Huijbergen. Start is om 14.00 uur en het duurt tot 16.00 uur. De organisatoren vragen 3 euro als entreeprijs. Daarvoor krijgt u behalve het bekijken van de films óók nog een kopje koffie of thee.</p>
DESCRIPTION:<a href='/woensdrecht/agenda/2025/9/17/huijbergse-filmmiddag-in-de-kloek-457061'>/woensdrecht/agenda/2025/9/17/huijbergse-filmmiddag-in-de-kloek-457061</a> || <p>Ook dit jaar organiseert het bestuur van Senioren Huijbergen een Huijbergse Filmmiddag in MFC De Kloek in Huijbergen en wel op woensdag 17 september aanstaande. Zoals gebruikelijk is het filmarchief van Huijbergenaar John Kil daarvoor een belangrijke bron, maar er verschijnen óók andere beelden van Huijbergen en Brabant op het witte doek. Er worden beelden vertoond van de Huijbergse rommelmarkt, maar ook een natuurfilm over het Brabantse landschap en beelden van Senioren Huijbergen zelf over het afgelopen verenigingsjaar. De middag is toegankelijk voor leden én niet-leden. De voorstelling begint in MFC De Kloek aan de Prior Borrekensstraat 1 in Huijbergen. Start is om 14.00 uur en het duurt tot 16.00 uur. De organisatoren vragen 3 euro als entreeprijs. Daarvoor krijgt u behalve het bekijken van de films óók nog een kopje koffie of thee.</p>
LAST-MODIFIED:20260424T172556Z
LOCATION: De Kloek | Prior Borrekensstraat 1 Huijbergen
SEQUENCE:0
STATUS:CONFIRMED
SUMMARY:Huijbergse filmmiddag in De Kloek
TRANSP:OPAQUE
END:VEVENT
END:VCALENDAR
