BEGIN:VCALENDAR
PRODID:-//PUBBLE//agenda//NL
VERSION:2.0
METHOD:PUBLISH
BEGIN:VEVENT
DTSTART:20251110T213258Z
DTEND:20251110T223258Z
DTSTAMP:20260422T001827Z
UID:efd39ec8-3d64-470f-8d01-76637ecec27b
CREATED:20260422T001827Z
NAME:ATB Toertocht Huijbergen internetbode.nl
X-WR-CALNAME:ATB Toertocht Huijbergen
X-ALT-DESC;FMTTYPE=text/html:<a href='/woensdrecht/agenda/2025/11/23/atb-toertocht-huijbergen-462991'>/woensdrecht/agenda/2025/11/23/atb-toertocht-huijbergen-462991</a> || <h2 class="Kop2004"><br /></h2><p>Op zondag 23 november wordt de traditionele ATB-toertocht Huijbergen georganiseerd. Het evenement is een begrip in Zuid-Nederland en staat alweer voor de 21e keer op de rol. Er wordt gestart vanuit multifunctioneel centrum De Kloek in Huijbergen. De gravel- en mountainbikers leggen vanuit daar 25 of 45 kilometer af en kunnen onderweg rekenen op een gezonde versnapering. Bij aankomst zijn ook ditmaal weer een bewaakte fietsenstalling en fietsspuitplaatsen voorzien. Beide routes voeren voor 90 procent over onverharde paden. Inschrijving kan ter plaatse vanaf 8.00 uur of via www.wchuijbergen.nl. De kosten bedragen zes euro. Tussen 8.30 uur en 10.30 uur kun je starten.</p><h2 class="Tussenkop02"><br /></h2>
DESCRIPTION:<a href='/woensdrecht/agenda/2025/11/23/atb-toertocht-huijbergen-462991'>/woensdrecht/agenda/2025/11/23/atb-toertocht-huijbergen-462991</a> || <h2 class="Kop2004"><br /></h2><p>Op zondag 23 november wordt de traditionele ATB-toertocht Huijbergen georganiseerd. Het evenement is een begrip in Zuid-Nederland en staat alweer voor de 21e keer op de rol. Er wordt gestart vanuit multifunctioneel centrum De Kloek in Huijbergen. De gravel- en mountainbikers leggen vanuit daar 25 of 45 kilometer af en kunnen onderweg rekenen op een gezonde versnapering. Bij aankomst zijn ook ditmaal weer een bewaakte fietsenstalling en fietsspuitplaatsen voorzien. Beide routes voeren voor 90 procent over onverharde paden. Inschrijving kan ter plaatse vanaf 8.00 uur of via www.wchuijbergen.nl. De kosten bedragen zes euro. Tussen 8.30 uur en 10.30 uur kun je starten.</p><h2 class="Tussenkop02"><br /></h2>
LAST-MODIFIED:20260422T001827Z
LOCATION: De Kloek | Prior Borrekensstraat 1 Huijbergen
SEQUENCE:0
STATUS:CONFIRMED
SUMMARY:ATB Toertocht Huijbergen
TRANSP:OPAQUE
END:VEVENT
END:VCALENDAR
