BEGIN:VCALENDAR
PRODID:-//PUBBLE//agenda//NL
VERSION:2.0
METHOD:PUBLISH
BEGIN:VEVENT
DTSTART:20260504T080000Z
DTEND:20260519T063500Z
DTSTAMP:20260423T050552Z
UID:5f62a29a-35a0-4359-9c91-942d96904a7d
CREATED:20260423T050552Z
NAME:Klik & Tik | Omgaan met de computer internetbode.nl
X-WR-CALNAME:Klik & Tik | Omgaan met de computer
X-ALT-DESC;FMTTYPE=text/html:<a href='/rucphen/agenda/2026/5/4/klik-tik-omgaan-met-de-computer-465199'>/rucphen/agenda/2026/5/4/klik-tik-omgaan-met-de-computer-465199</a> || <p>In de wekelijkse basiscursus Klik &amp; Tik in de bibliotheek leer je beter gebruik te maken van de computer of de tablet. Het is een eerste kennismaking met de computer en internet die je helpt bij het overwinnen van je computerangst. Ook komen aspecten als online veiligheid, social media en het gebruik van een tablet aan bod. Deze cursus is voor iedereen gratis, ook als je geen lid bent van de bibliotheek. Je moet jezelf alleen wel vooraf aanmelden.<br><br><strong>Aanmelden kan op drie manieren</strong><br>• Loop even binnen in de bibliotheek<br>• Stuur een e-mail naar digitaalhuis@bibliotheekwb.nl<br>• Bel of stuur een WhatsApp bericht naar 06 18 05 22 48<br><br>Als we jouw aanmelding hebben ontvangen, nemen we eerst contact met je op en hoor je van ons wanneer je kunt starten met de cursus.</p>
DESCRIPTION:<a href='/rucphen/agenda/2026/5/4/klik-tik-omgaan-met-de-computer-465199'>/rucphen/agenda/2026/5/4/klik-tik-omgaan-met-de-computer-465199</a> || <p>In de wekelijkse basiscursus Klik &amp; Tik in de bibliotheek leer je beter gebruik te maken van de computer of de tablet. Het is een eerste kennismaking met de computer en internet die je helpt bij het overwinnen van je computerangst. Ook komen aspecten als online veiligheid, social media en het gebruik van een tablet aan bod. Deze cursus is voor iedereen gratis, ook als je geen lid bent van de bibliotheek. Je moet jezelf alleen wel vooraf aanmelden.<br><br><strong>Aanmelden kan op drie manieren</strong><br>• Loop even binnen in de bibliotheek<br>• Stuur een e-mail naar digitaalhuis@bibliotheekwb.nl<br>• Bel of stuur een WhatsApp bericht naar 06 18 05 22 48<br><br>Als we jouw aanmelding hebben ontvangen, nemen we eerst contact met je op en hoor je van ons wanneer je kunt starten met de cursus.</p>
LAST-MODIFIED:20260423T050552Z
LOCATION: de Bibliotheek West-Brabant | Binnentuin 3 Rucphen
SEQUENCE:0
STATUS:CONFIRMED
SUMMARY:Klik & Tik | Omgaan met de computer
TRANSP:OPAQUE
END:VEVENT
END:VCALENDAR
