BEGIN:VCALENDAR
PRODID:-//PUBBLE//agenda//NL
VERSION:2.0
METHOD:PUBLISH
BEGIN:VEVENT
DTSTART:20260522T080000Z
DTEND:20260711T064900Z
DTSTAMP:20260423T070843Z
UID:2e3e4cf0-bc84-4972-9072-d75b092680bb
CREATED:20260423T070843Z
NAME:Hulp bij telefoon, tablet of laptop internetbode.nl
X-WR-CALNAME:Hulp bij telefoon, tablet of laptop
X-ALT-DESC;FMTTYPE=text/html:<a href='/rucphen/agenda/2026/5/22/hulp-bij-telefoon-tablet-of-laptop-465206'>/rucphen/agenda/2026/5/22/hulp-bij-telefoon-tablet-of-laptop-465206</a> || <p>Heb je een vraag over je telefoon, tablet of laptop? Loop dan binnen tijdens het inloopmoment van Digistek. Je krijgt meer online zelfvertrouwen en je verbetert jouw computervaardigheden! Je hoeft geen afspraak te maken. En de hulp is voor iedereen gratis. Ook als je geen lid bent van de bibliotheek.<br>Bij Digistek helpen we alleen met vragen over de werking van je telefoon, tablet of laptop. We kunnen apparaten niet voor je repareren.<br><br><strong>Meer informatie</strong><br>• Kijk op www.bibliotheekwb.nl/digistek</p><p>• Stuur een e-mail naar: digitaalhuis@bibliotheekwb.nl<br>• Bel of stuur of een WhatsApp bericht naar: 06 18 05 22 48</p>
DESCRIPTION:<a href='/rucphen/agenda/2026/5/22/hulp-bij-telefoon-tablet-of-laptop-465206'>/rucphen/agenda/2026/5/22/hulp-bij-telefoon-tablet-of-laptop-465206</a> || <p>Heb je een vraag over je telefoon, tablet of laptop? Loop dan binnen tijdens het inloopmoment van Digistek. Je krijgt meer online zelfvertrouwen en je verbetert jouw computervaardigheden! Je hoeft geen afspraak te maken. En de hulp is voor iedereen gratis. Ook als je geen lid bent van de bibliotheek.<br>Bij Digistek helpen we alleen met vragen over de werking van je telefoon, tablet of laptop. We kunnen apparaten niet voor je repareren.<br><br><strong>Meer informatie</strong><br>• Kijk op www.bibliotheekwb.nl/digistek</p><p>• Stuur een e-mail naar: digitaalhuis@bibliotheekwb.nl<br>• Bel of stuur of een WhatsApp bericht naar: 06 18 05 22 48</p>
LAST-MODIFIED:20260423T070843Z
LOCATION: de Bibliotheek West-Brabant | Binnentuin 3 Rucphen
SEQUENCE:0
STATUS:CONFIRMED
SUMMARY:Hulp bij telefoon, tablet of laptop
TRANSP:OPAQUE
END:VEVENT
END:VCALENDAR
