BEGIN:VCALENDAR
PRODID:-//PUBBLE//agenda//NL
VERSION:2.0
METHOD:PUBLISH
BEGIN:VEVENT
DTSTART:20260522T083000Z
DTEND:20260711T065500Z
DTSTAMP:20260423T050553Z
UID:6f98bb30-3edb-493b-9042-eea2dfdb7dba
CREATED:20260423T050553Z
NAME:Digi-Taalhuis | Inloopspreekuur internetbode.nl
X-WR-CALNAME:Digi-Taalhuis | Inloopspreekuur
X-ALT-DESC;FMTTYPE=text/html:<a href='/rucphen/agenda/2026/5/22/digi-taalhuis-inloopspreekuur-465209'>/rucphen/agenda/2026/5/22/digi-taalhuis-inloopspreekuur-465209</a> || <p>Wil je oefenen met de Nederlandse taal, de computer of tablet? Of wil je leren rekenen? Kom dan naar het inloopspreekuur van het Digi-Taalhuis. Een afspraak maken is niet nodig. Je kunt bij dit inloopspreekuur terecht voor informatie over verschillende taal-, reken- en computercursussen. <br>Het inloopspreekuur is er ook voor vrijwilligers en doorverwijzers. Je kunt er bijvoorbeeld terecht voor geschikt lesmateriaal voor jouw cursist(en).<br><br><strong>Meer informatie</strong><br>• Kijk op www.bibliotheekwb.nl/digitaalhuis<br>• Stuur een e-mail naar: digitaalhuis@bibliotheekwb.nl<br>• Bel of stuur of een WhatsApp bericht naar: 06 18 05 22 48 </p>
DESCRIPTION:<a href='/rucphen/agenda/2026/5/22/digi-taalhuis-inloopspreekuur-465209'>/rucphen/agenda/2026/5/22/digi-taalhuis-inloopspreekuur-465209</a> || <p>Wil je oefenen met de Nederlandse taal, de computer of tablet? Of wil je leren rekenen? Kom dan naar het inloopspreekuur van het Digi-Taalhuis. Een afspraak maken is niet nodig. Je kunt bij dit inloopspreekuur terecht voor informatie over verschillende taal-, reken- en computercursussen. <br>Het inloopspreekuur is er ook voor vrijwilligers en doorverwijzers. Je kunt er bijvoorbeeld terecht voor geschikt lesmateriaal voor jouw cursist(en).<br><br><strong>Meer informatie</strong><br>• Kijk op www.bibliotheekwb.nl/digitaalhuis<br>• Stuur een e-mail naar: digitaalhuis@bibliotheekwb.nl<br>• Bel of stuur of een WhatsApp bericht naar: 06 18 05 22 48 </p>
LAST-MODIFIED:20260423T050553Z
LOCATION: de Bibliotheek West-Brabant | Binnentuin 3 Rucphen
SEQUENCE:0
STATUS:CONFIRMED
SUMMARY:Digi-Taalhuis | Inloopspreekuur
TRANSP:OPAQUE
END:VEVENT
END:VCALENDAR
