BEGIN:VCALENDAR
PRODID:-//PUBBLE//agenda//NL
VERSION:2.0
METHOD:PUBLISH
BEGIN:VEVENT
DTSTART:20260113T173000Z
DTEND:20260113T190000Z
DTSTAMP:20260420T173059Z
UID:b6f5911d-6741-489e-a04c-66e1b504aca3
CREATED:20260420T173059Z
NAME:Nieuwjaarsreceptie Zevenbergen internetbode.nl
X-WR-CALNAME:Nieuwjaarsreceptie Zevenbergen
X-ALT-DESC;FMTTYPE=text/html:<a href='/moerdijk/agenda/2026/1/13/nieuwjaarsreceptie-zevenbergen-465901'>/moerdijk/agenda/2026/1/13/nieuwjaarsreceptie-zevenbergen-465901</a> || <p>Graag nodigen wij alle inwoners van Zevenbergen uit voor een informele nieuwjaarsbijeenkomst. In een ongedwongen sfeer heffen we graag samen met u het glas op een fantastisch nieuw jaar. U bent van harte welkom! Graag aanmelden (inclusief vermelding aantal personen) via <a href="mailto:info@stadstafelzevenbergen.nl">info@stadstafelzevenbergen.nl</a></p>
DESCRIPTION:<a href='/moerdijk/agenda/2026/1/13/nieuwjaarsreceptie-zevenbergen-465901'>/moerdijk/agenda/2026/1/13/nieuwjaarsreceptie-zevenbergen-465901</a> || <p>Graag nodigen wij alle inwoners van Zevenbergen uit voor een informele nieuwjaarsbijeenkomst. In een ongedwongen sfeer heffen we graag samen met u het glas op een fantastisch nieuw jaar. U bent van harte welkom! Graag aanmelden (inclusief vermelding aantal personen) via <a href="mailto:info@stadstafelzevenbergen.nl">info@stadstafelzevenbergen.nl</a></p>
LAST-MODIFIED:20260420T173059Z
LOCATION: 't Trefpunt | Kristallaan 25 c Zevenbergen
SEQUENCE:0
STATUS:CONFIRMED
SUMMARY:Nieuwjaarsreceptie Zevenbergen
TRANSP:OPAQUE
END:VEVENT
END:VCALENDAR
