BEGIN:VCALENDAR
PRODID:-//PUBBLE//agenda//NL
VERSION:2.0
METHOD:PUBLISH
BEGIN:VEVENT
DTSTART:20260515T080000Z
DTEND:20260515T090000Z
DTSTAMP:20260423T070947Z
UID:476c5953-4c41-4f43-acfc-982482371833
CREATED:20260423T070947Z
NAME:PeuterParade | Voor kids van 2-4 jr internetbode.nl
X-WR-CALNAME:PeuterParade | Voor kids van 2-4 jr
X-ALT-DESC;FMTTYPE=text/html:<a href='/rucphen/agenda/2026/5/15/peuterparade-voor-kids-van-2-4-jr-465922'>/rucphen/agenda/2026/5/15/peuterparade-voor-kids-van-2-4-jr-465922</a> || <p>Tijdens de gezellige PeuterParade in de bibliotheek wordt een boek voorgelezen. Daarna gaan we samen spelletjes spelen, liedjes zingen en knutselen. Ook krijg je leuke tips om thuis mee aan de slag te gaan. Deelname voor iedereen gratis, ook als je geen lid bent van de bieb.<br />Ga voor meer informatie en aanmelden naar www.bibliotheekwb.nl/peuterparade</p>
DESCRIPTION:<a href='/rucphen/agenda/2026/5/15/peuterparade-voor-kids-van-2-4-jr-465922'>/rucphen/agenda/2026/5/15/peuterparade-voor-kids-van-2-4-jr-465922</a> || <p>Tijdens de gezellige PeuterParade in de bibliotheek wordt een boek voorgelezen. Daarna gaan we samen spelletjes spelen, liedjes zingen en knutselen. Ook krijg je leuke tips om thuis mee aan de slag te gaan. Deelname voor iedereen gratis, ook als je geen lid bent van de bieb.<br />Ga voor meer informatie en aanmelden naar www.bibliotheekwb.nl/peuterparade</p>
LAST-MODIFIED:20260423T070947Z
LOCATION: de Bibliotheek West-Brabant | Binnentuin 3 Rucphen
SEQUENCE:0
STATUS:CONFIRMED
SUMMARY:PeuterParade | Voor kids van 2-4 jr
TRANSP:OPAQUE
END:VEVENT
END:VCALENDAR
