BEGIN:VCALENDAR
PRODID:-//PUBBLE//agenda//NL
VERSION:2.0
METHOD:PUBLISH
BEGIN:VEVENT
DTSTART:20261218T080000Z
DTEND:20261218T090000Z
DTSTAMP:20260423T053440Z
UID:8f0ddab5-5a5b-4450-b58b-a1f63640e7e6
CREATED:20260423T053440Z
NAME:PeuterParade | Voor kids van 2-4 jr internetbode.nl
X-WR-CALNAME:PeuterParade | Voor kids van 2-4 jr
X-ALT-DESC;FMTTYPE=text/html:<a href='/rucphen/agenda/2026/12/18/peuterparade-voor-kids-van-2-4-jr-465925'>/rucphen/agenda/2026/12/18/peuterparade-voor-kids-van-2-4-jr-465925</a> || <p>Tijdens de gezellige PeuterParade in de bibliotheek wordt een boek voorgelezen. Daarna gaan we samen spelletjes spelen, liedjes zingen en knutselen. Ook krijg je leuke tips om thuis mee aan de slag te gaan. Deelname voor iedereen gratis, ook als je geen lid bent van de bieb. Ga voor meer informatie en aanmelden naar www.bibliotheekwb.nl/peuterparade</p>
DESCRIPTION:<a href='/rucphen/agenda/2026/12/18/peuterparade-voor-kids-van-2-4-jr-465925'>/rucphen/agenda/2026/12/18/peuterparade-voor-kids-van-2-4-jr-465925</a> || <p>Tijdens de gezellige PeuterParade in de bibliotheek wordt een boek voorgelezen. Daarna gaan we samen spelletjes spelen, liedjes zingen en knutselen. Ook krijg je leuke tips om thuis mee aan de slag te gaan. Deelname voor iedereen gratis, ook als je geen lid bent van de bieb. Ga voor meer informatie en aanmelden naar www.bibliotheekwb.nl/peuterparade</p>
LAST-MODIFIED:20260423T053440Z
LOCATION: de Bibliotheek West-Brabant | Binnentuin 3 Rucphen
SEQUENCE:0
STATUS:CONFIRMED
SUMMARY:PeuterParade | Voor kids van 2-4 jr
TRANSP:OPAQUE
END:VEVENT
END:VCALENDAR
