BEGIN:VCALENDAR
PRODID:-//PUBBLE//agenda//NL
VERSION:2.0
METHOD:PUBLISH
BEGIN:VEVENT
DTSTART:20260209T114048Z
DTEND:20260209T124048Z
DTSTAMP:20260421T051740Z
UID:f84d41af-6a35-42a2-ba34-e2513211d172
CREATED:20260421T051740Z
NAME:Concert bij Cultuur in het Kerkje internetbode.nl
X-WR-CALNAME:Concert bij Cultuur in het Kerkje
X-ALT-DESC;FMTTYPE=text/html:<a href='/steenbergen/agenda/2026/2/22/concert-bij-cultuur-in-het-kerkje-468659'>/steenbergen/agenda/2026/2/22/concert-bij-cultuur-in-het-kerkje-468659</a> || <p>Tijdens Cultuur in het Kerkje op zondag 22 februari om 14.00 uur in het Protestantse Kerkje aan de Voorstraat 48 in Nieuw Vossemeer, is er een concert van Amarens de Boer. Heeft u behoefte aan een ontspannen middag met muziek en zang ,kom dan naar het concert van Amarens de Boer. Een sprankelende voorstelling met liedjes en verhaaltjes die een aaneenschakeling zijn van serieuze zaken en wat zelfspot. Met hilarische en herkenbare thema’s over o.a. relaties en wat er zoal kan gebeuren. Alles komt op een aangename en relaxte manier voorbij. Amarens schrijft al haar liedjes zelf en weet het publiek te boeien met haar eigenzinnige manier en taalgebruik. Kaartjes reserveren voor dit concert via janvandevelde@caiway.nl</p>
DESCRIPTION:<a href='/steenbergen/agenda/2026/2/22/concert-bij-cultuur-in-het-kerkje-468659'>/steenbergen/agenda/2026/2/22/concert-bij-cultuur-in-het-kerkje-468659</a> || <p>Tijdens Cultuur in het Kerkje op zondag 22 februari om 14.00 uur in het Protestantse Kerkje aan de Voorstraat 48 in Nieuw Vossemeer, is er een concert van Amarens de Boer. Heeft u behoefte aan een ontspannen middag met muziek en zang ,kom dan naar het concert van Amarens de Boer. Een sprankelende voorstelling met liedjes en verhaaltjes die een aaneenschakeling zijn van serieuze zaken en wat zelfspot. Met hilarische en herkenbare thema’s over o.a. relaties en wat er zoal kan gebeuren. Alles komt op een aangename en relaxte manier voorbij. Amarens schrijft al haar liedjes zelf en weet het publiek te boeien met haar eigenzinnige manier en taalgebruik. Kaartjes reserveren voor dit concert via janvandevelde@caiway.nl</p>
LAST-MODIFIED:20260421T051740Z
LOCATION: Protestantse kerkje | Voorstraat  Nieuw-Vossemeer
SEQUENCE:0
STATUS:CONFIRMED
SUMMARY:Concert bij Cultuur in het Kerkje
TRANSP:OPAQUE
END:VEVENT
END:VCALENDAR
