BEGIN:VCALENDAR
PRODID:-//PUBBLE//agenda//NL
VERSION:2.0
METHOD:PUBLISH
BEGIN:VEVENT
DTSTART:20260421T110000Z
DTEND:20260819T073600Z
DTSTAMP:20260423T053428Z
UID:e97f412b-737c-4d51-9c99-0e24cd74fac7
CREATED:20260423T053428Z
NAME:IDO en Digi-Taalhuis spreekuur internetbode.nl
X-WR-CALNAME:IDO en Digi-Taalhuis spreekuur
X-ALT-DESC;FMTTYPE=text/html:<a href='/rucphen/agenda/2026/4/21/ido-en-digi-taalhuis-spreekuur-468871'>/rucphen/agenda/2026/4/21/ido-en-digi-taalhuis-spreekuur-468871</a> || <p>Heb je vragen over DigiD, belastingen, toeslagen of andere zaken van de digitale overheid? Of wil je aan de slag met het oefenen van de Nederlandse taal, rekenen of de computer? Kom dan naar het spreekuur IDO / Digi-Taalhuis bij De Lanteern in Sint Willebrod. <br>Wij denken met je mee en geven informatie zodat je verder kunt. Wij kunnen ook een afspraak voor je maken met een organisatie die je verder helpt. De hulp bij dit informatiepunt is voor iedereen gratis. Ook als je geen lid bent van de bibliotheek. Je kunt zo binnenlopen; een afspraak maken is niet nodig.<br><br><strong>• Wanneer?&nbsp;</strong>Iedere derde dinsdag van de maand van 13.00 tot 15.00 uur  <br><strong>• Waar?&nbsp;</strong>Gemeenschapshuis De Lanteern, Dorpsstraat 19 in Sint Willebrod <br><strong><br>Meer informatie</strong><br>Kom langs bij de bibliotheek bij jou in de buurt of kijk op www.bibliotheekwb.nl/ido</p>
DESCRIPTION:<a href='/rucphen/agenda/2026/4/21/ido-en-digi-taalhuis-spreekuur-468871'>/rucphen/agenda/2026/4/21/ido-en-digi-taalhuis-spreekuur-468871</a> || <p>Heb je vragen over DigiD, belastingen, toeslagen of andere zaken van de digitale overheid? Of wil je aan de slag met het oefenen van de Nederlandse taal, rekenen of de computer? Kom dan naar het spreekuur IDO / Digi-Taalhuis bij De Lanteern in Sint Willebrod. <br>Wij denken met je mee en geven informatie zodat je verder kunt. Wij kunnen ook een afspraak voor je maken met een organisatie die je verder helpt. De hulp bij dit informatiepunt is voor iedereen gratis. Ook als je geen lid bent van de bibliotheek. Je kunt zo binnenlopen; een afspraak maken is niet nodig.<br><br><strong>• Wanneer?&nbsp;</strong>Iedere derde dinsdag van de maand van 13.00 tot 15.00 uur  <br><strong>• Waar?&nbsp;</strong>Gemeenschapshuis De Lanteern, Dorpsstraat 19 in Sint Willebrod <br><strong><br>Meer informatie</strong><br>Kom langs bij de bibliotheek bij jou in de buurt of kijk op www.bibliotheekwb.nl/ido</p>
LAST-MODIFIED:20260423T053428Z
LOCATION: Gemeenschapshuis de Lanteern | Dorpsstraat 119 St. Willebrord
SEQUENCE:0
STATUS:CONFIRMED
SUMMARY:IDO en Digi-Taalhuis spreekuur
TRANSP:OPAQUE
END:VEVENT
END:VCALENDAR
