BEGIN:VCALENDAR
PRODID:-//PUBBLE//agenda//NL
VERSION:2.0
METHOD:PUBLISH
BEGIN:VEVENT
DTSTART:20260522T080000Z
DTEND:20260711T112700Z
DTSTAMP:20260423T070842Z
UID:4cfda369-7b52-48df-9dfc-fe040519a205
CREATED:20260423T070842Z
NAME:Nederlands oefenen in het Taalcafé internetbode.nl
X-WR-CALNAME:Nederlands oefenen in het Taalcafé
X-ALT-DESC;FMTTYPE=text/html:<a href='/rucphen/agenda/2026/5/22/nederlands-oefenen-in-het-taalcafe-469175'>/rucphen/agenda/2026/5/22/nederlands-oefenen-in-het-taalcafe-469175</a> || <p>Wil je op een ontspannen manier oefenen met de Nederlandse taal? Wil je andere mensen ontmoeten die ook Nederlands willen oefenen? Dat kan bij het Taalcafé in de bibliotheek in Rucphen. Je bent welkom voor een kopje koffie of thee, om gezellig te kletsen, spelletjes te doen en andere mensen te leren kennen. Je mag iedere week deelnemen of af en toe, dat is helemaal aan jou. Er is altijd een taalvrijwilliger aanwezig om te helpen bij de gesprekken. Het Taalcafé is voor iedereen gratis. Vooraf aanmelden is niet nodig.<br><br><strong>Meer informatie&nbsp;</strong><br>• Kijk op www.bibliotheekwb.nl/taalcafe <br>• Stuur een e-mail naar: digitaalhuis@bibliotheekwb.nl <br>• Bel of stuur of een WhatsApp bericht naar: 06 18 05 22 48</p>
DESCRIPTION:<a href='/rucphen/agenda/2026/5/22/nederlands-oefenen-in-het-taalcafe-469175'>/rucphen/agenda/2026/5/22/nederlands-oefenen-in-het-taalcafe-469175</a> || <p>Wil je op een ontspannen manier oefenen met de Nederlandse taal? Wil je andere mensen ontmoeten die ook Nederlands willen oefenen? Dat kan bij het Taalcafé in de bibliotheek in Rucphen. Je bent welkom voor een kopje koffie of thee, om gezellig te kletsen, spelletjes te doen en andere mensen te leren kennen. Je mag iedere week deelnemen of af en toe, dat is helemaal aan jou. Er is altijd een taalvrijwilliger aanwezig om te helpen bij de gesprekken. Het Taalcafé is voor iedereen gratis. Vooraf aanmelden is niet nodig.<br><br><strong>Meer informatie&nbsp;</strong><br>• Kijk op www.bibliotheekwb.nl/taalcafe <br>• Stuur een e-mail naar: digitaalhuis@bibliotheekwb.nl <br>• Bel of stuur of een WhatsApp bericht naar: 06 18 05 22 48</p>
LAST-MODIFIED:20260423T070842Z
LOCATION: de Bibliotheek West-Brabant | Binnentuin 3 Rucphen
SEQUENCE:0
STATUS:CONFIRMED
SUMMARY:Nederlands oefenen in het Taalcafé
TRANSP:OPAQUE
END:VEVENT
END:VCALENDAR
