BEGIN:VCALENDAR
PRODID:-//PUBBLE//agenda//NL
VERSION:2.0
METHOD:PUBLISH
BEGIN:VEVENT
DTSTART:20260217T094542Z
DTEND:20260531T140000Z
DTSTAMP:20260423T050551Z
UID:cf089c3c-9eb1-4b4c-bcf1-262461d0d930
CREATED:20260423T050551Z
NAME:Rommelmarkt internetbode.nl
X-WR-CALNAME:Rommelmarkt
X-ALT-DESC;FMTTYPE=text/html:<a href='/rucphen/agenda/2026/5/31/rommelmarkt-469217'>/rucphen/agenda/2026/5/31/rommelmarkt-469217</a> || <p>Rommelmarkt Rucphen organiseert in samenwerking met de gemeente Rucphen op 31 mei van 9-16 uur een leuke rommelmarkt in Rucphen op het evenemententerrein aan de Sporthei. Kraamhuur 35 euro, Entree 1 euro. Voor aanmelden: f.beekwilder@outlook.com&nbsp;</p>
DESCRIPTION:<a href='/rucphen/agenda/2026/5/31/rommelmarkt-469217'>/rucphen/agenda/2026/5/31/rommelmarkt-469217</a> || <p>Rommelmarkt Rucphen organiseert in samenwerking met de gemeente Rucphen op 31 mei van 9-16 uur een leuke rommelmarkt in Rucphen op het evenemententerrein aan de Sporthei. Kraamhuur 35 euro, Entree 1 euro. Voor aanmelden: f.beekwilder@outlook.com&nbsp;</p>
LAST-MODIFIED:20260423T050551Z
LOCATION: evenemententerrein aan de Sporthei |   Rucphen
SEQUENCE:0
STATUS:CONFIRMED
SUMMARY:Rommelmarkt
TRANSP:OPAQUE
END:VEVENT
END:VCALENDAR
