BEGIN:VCALENDAR
PRODID:-//PUBBLE//agenda//NL
VERSION:2.0
METHOD:PUBLISH
BEGIN:VEVENT
DTSTART:20260306T190000Z
DTEND:20260306T230000Z
DTSTAMP:20260419T225048Z
UID:02914253-f076-425f-89dd-04551619e45b
CREATED:20260419T225048Z
NAME:Après-ski internetbode.nl
X-WR-CALNAME:Après-ski
X-ALT-DESC;FMTTYPE=text/html:<a href='/tholen/agenda/2026/3/6/apres-ski-469523'>/tholen/agenda/2026/3/6/apres-ski-469523</a> || <p>Haal je ski’s (of sneeuwlaarzen) maar alvast uit de kast, want vrijdag 6 maart verandert Café ’t Zeevarken in een gezellige berghut! &nbsp;21.00-01.00 uur. Foute hits, meezingers &amp; après-ski klassiekers Warme sfeer, koude drankjes Stil blijven staan? Onmogelijk. Dit wordt après-ski op z’n Zeevarkens Trek iets warms aan, neem je vrienden mee en kom losgaan bij je thuishaven in Stavenisse.&nbsp;</p>
DESCRIPTION:<a href='/tholen/agenda/2026/3/6/apres-ski-469523'>/tholen/agenda/2026/3/6/apres-ski-469523</a> || <p>Haal je ski’s (of sneeuwlaarzen) maar alvast uit de kast, want vrijdag 6 maart verandert Café ’t Zeevarken in een gezellige berghut! &nbsp;21.00-01.00 uur. Foute hits, meezingers &amp; après-ski klassiekers Warme sfeer, koude drankjes Stil blijven staan? Onmogelijk. Dit wordt après-ski op z’n Zeevarkens Trek iets warms aan, neem je vrienden mee en kom losgaan bij je thuishaven in Stavenisse.&nbsp;</p>
LAST-MODIFIED:20260419T225048Z
LOCATION: Café 't Zeevarken | Stoofdijk 11 Stavenisse
SEQUENCE:0
STATUS:CONFIRMED
SUMMARY:Après-ski
TRANSP:OPAQUE
END:VEVENT
END:VCALENDAR
