BEGIN:VCALENDAR
PRODID:-//PUBBLE//agenda//NL
VERSION:2.0
METHOD:PUBLISH
BEGIN:VEVENT
DTSTART:20260327T101436Z
DTEND:20260418T143000Z
DTSTAMP:20260420T142817Z
UID:5c674022-3d97-41e9-b7e5-ffc0b2812549
CREATED:20260420T142817Z
NAME:Handlettering in Nederlands Drukkerij Museum internetbode.nl
X-WR-CALNAME:Handlettering in Nederlands Drukkerij Museum
X-ALT-DESC;FMTTYPE=text/html:<a href='/etten-leur/agenda/2026/4/18/handlettering-in-nederlands-drukkerij-museum-471607'>/etten-leur/agenda/2026/4/18/handlettering-in-nederlands-drukkerij-museum-471607</a> || <p>Workshop handlettering, onder begeleiding van Marijke Maas, is een jubileumactiviteit nav 50 jarig bestaan van Nederlands Drukkerij Museum. Je leert de grondbeginselen om te handletteren. Handlettering betekent ‘letters tekenen’. Je schrijft de letters dus niet, maar je tekent ze. Dit kan in allerlei soorten en maten. Je kunt bijv. kiezen voor sierlijke letters met veel krullen, maar er zijn ook vele soorten blokletters te bedenken. Aanvang 13.30u, einde rond 16.30u. Aanmelden: info@grafischewerkplaatsetten-leur.eu maar vol=vol. www.nederlandsdrukkerijmuseum.eu</p>
DESCRIPTION:<a href='/etten-leur/agenda/2026/4/18/handlettering-in-nederlands-drukkerij-museum-471607'>/etten-leur/agenda/2026/4/18/handlettering-in-nederlands-drukkerij-museum-471607</a> || <p>Workshop handlettering, onder begeleiding van Marijke Maas, is een jubileumactiviteit nav 50 jarig bestaan van Nederlands Drukkerij Museum. Je leert de grondbeginselen om te handletteren. Handlettering betekent ‘letters tekenen’. Je schrijft de letters dus niet, maar je tekent ze. Dit kan in allerlei soorten en maten. Je kunt bijv. kiezen voor sierlijke letters met veel krullen, maar er zijn ook vele soorten blokletters te bedenken. Aanvang 13.30u, einde rond 16.30u. Aanmelden: info@grafischewerkplaatsetten-leur.eu maar vol=vol. www.nederlandsdrukkerijmuseum.eu</p>
LAST-MODIFIED:20260420T142817Z
LOCATION: Nederlands Drukkerij Museum | Leeuwerik 8 Etten-Leur
SEQUENCE:0
STATUS:CONFIRMED
SUMMARY:Handlettering in Nederlands Drukkerij Museum
TRANSP:OPAQUE
END:VEVENT
END:VCALENDAR
