BEGIN:VCALENDAR
PRODID:-//PUBBLE//agenda//NL
VERSION:2.0
METHOD:PUBLISH
BEGIN:VEVENT
DTSTART:20260422T183000Z
DTEND:20260422T210000Z
DTSTAMP:20260421T083107Z
UID:a6ac543a-bac8-415b-a39e-e58fa4f26d31
CREATED:20260421T083107Z
NAME:Sunset Cinema Nostalgia Night internetbode.nl
X-WR-CALNAME:Sunset Cinema Nostalgia Night
X-ALT-DESC;FMTTYPE=text/html:<a href='/roosendaal/agenda/2026/4/22/sunset-cinema-nostalgia-night-471661'>/roosendaal/agenda/2026/4/22/sunset-cinema-nostalgia-night-471661</a> || <p>Tijdens deze speciale filmavond veranderen we de locatie in een gezellige openluchtbioscoop waar je onder de sterren kunt genieten van een film via draadloze silent cinema headsets. Zodra de zon ondergaat, start de film en kun je ontspannen kijken in een unieke sfeer met vrienden, familie of een leuke date. Iedere bezoeker ontvangt bij binnenkomst een draadloze headset waarmee je de film in hoge geluidskwaliteit kunt luisteren. Zo blijft de sfeer rustig en kan iedereen optimaal genieten van de film. Film van de avond: Pirates of the Caribbean: The Curse of the Black Pearl We nemen je mee terug met Pirates of the Caribbean. Vol avontuur, humor en iconische momenten volg je het verhaal van piraten, schatten en epische zeegevechten. Een film die voor veel mensen pure nostalgie is. Wat kun je verwachten: Film kijken onder de sterren Draadloze silent-cinema headsets Unieke zonsondergang sfeer Snacks en drankjes beschikbaar Gezellige avond met vrienden of familie </p>
DESCRIPTION:<a href='/roosendaal/agenda/2026/4/22/sunset-cinema-nostalgia-night-471661'>/roosendaal/agenda/2026/4/22/sunset-cinema-nostalgia-night-471661</a> || <p>Tijdens deze speciale filmavond veranderen we de locatie in een gezellige openluchtbioscoop waar je onder de sterren kunt genieten van een film via draadloze silent cinema headsets. Zodra de zon ondergaat, start de film en kun je ontspannen kijken in een unieke sfeer met vrienden, familie of een leuke date. Iedere bezoeker ontvangt bij binnenkomst een draadloze headset waarmee je de film in hoge geluidskwaliteit kunt luisteren. Zo blijft de sfeer rustig en kan iedereen optimaal genieten van de film. Film van de avond: Pirates of the Caribbean: The Curse of the Black Pearl We nemen je mee terug met Pirates of the Caribbean. Vol avontuur, humor en iconische momenten volg je het verhaal van piraten, schatten en epische zeegevechten. Een film die voor veel mensen pure nostalgie is. Wat kun je verwachten: Film kijken onder de sterren Draadloze silent-cinema headsets Unieke zonsondergang sfeer Snacks en drankjes beschikbaar Gezellige avond met vrienden of familie </p>
LAST-MODIFIED:20260421T083107Z
LOCATION: SPOT Roosendaal | Industriestraat 21 Roosendaal
SEQUENCE:0
STATUS:CONFIRMED
SUMMARY:Sunset Cinema Nostalgia Night
TRANSP:OPAQUE
END:VEVENT
END:VCALENDAR
