BEGIN:VCALENDAR
PRODID:-//PUBBLE//agenda//NL
VERSION:2.0
METHOD:PUBLISH
BEGIN:VEVENT
DTSTART:20260429T183000Z
DTEND:20260429T210000Z
DTSTAMP:20260423T085834Z
UID:4871b3d4-109d-42d0-92f7-b6bbe3807c27
CREATED:20260423T085834Z
NAME:Sunset Cinema Romantic: Mama Mia internetbode.nl
X-WR-CALNAME:Sunset Cinema Romantic: Mama Mia
X-ALT-DESC;FMTTYPE=text/html:<a href='/roosendaal/agenda/2026/4/29/sunset-cinema-romantic-mama-mia-471662'>/roosendaal/agenda/2026/4/29/sunset-cinema-romantic-mama-mia-471662</a> || <p>Tijdens deze speciale filmavond veranderen we de locatie in een gezellige openluchtbioscoop waar je onder de sterren kunt genieten van een film via draadloze silent cinema headsets. Zodra de zon ondergaat, start de film en kun je ontspannen kijken in een unieke sfeer met vrienden, familie of een leuke date. Iedere bezoeker ontvangt bij binnenkomst een draadloze headset waarmee je de film in hoge geluidskwaliteit kunt luisteren. Zo blijft de sfeer rustig en kan iedereen optimaal genieten van de film. Film van de avond: Mama Mia. Geniet van Mama Mia, een prachtige en sfeervolle film over liefde, dromen en muziek. Met romantische momenten en indrukwekkende muziek is dit de perfecte film voor een date night of een ontspannen avond. Wat kun je verwachten: Film kijken onder de sterren; Draadloze silent-cinema headsets; Unieke zonsondergang sfeer; Snacks en drankjes beschikbaar; Gezellige avond met vrienden of familie.</p>
DESCRIPTION:<a href='/roosendaal/agenda/2026/4/29/sunset-cinema-romantic-mama-mia-471662'>/roosendaal/agenda/2026/4/29/sunset-cinema-romantic-mama-mia-471662</a> || <p>Tijdens deze speciale filmavond veranderen we de locatie in een gezellige openluchtbioscoop waar je onder de sterren kunt genieten van een film via draadloze silent cinema headsets. Zodra de zon ondergaat, start de film en kun je ontspannen kijken in een unieke sfeer met vrienden, familie of een leuke date. Iedere bezoeker ontvangt bij binnenkomst een draadloze headset waarmee je de film in hoge geluidskwaliteit kunt luisteren. Zo blijft de sfeer rustig en kan iedereen optimaal genieten van de film. Film van de avond: Mama Mia. Geniet van Mama Mia, een prachtige en sfeervolle film over liefde, dromen en muziek. Met romantische momenten en indrukwekkende muziek is dit de perfecte film voor een date night of een ontspannen avond. Wat kun je verwachten: Film kijken onder de sterren; Draadloze silent-cinema headsets; Unieke zonsondergang sfeer; Snacks en drankjes beschikbaar; Gezellige avond met vrienden of familie.</p>
LAST-MODIFIED:20260423T085834Z
LOCATION: SPOT Roosendaal | Industriestraat 21 Roosendaal
SEQUENCE:0
STATUS:CONFIRMED
SUMMARY:Sunset Cinema Romantic: Mama Mia
TRANSP:OPAQUE
END:VEVENT
END:VCALENDAR
