BEGIN:VCALENDAR
PRODID:-//PUBBLE//agenda//NL
VERSION:2.0
METHOD:PUBLISH
BEGIN:VEVENT
DTSTART:20260401T083145Z
DTEND:20260401T093145Z
DTSTAMP:20260421T083138Z
UID:d2823f29-c359-4faa-958c-1038e44d5c67
CREATED:20260421T083138Z
NAME:De Zonnebloem bingo internetbode.nl
X-WR-CALNAME:De Zonnebloem bingo
X-ALT-DESC;FMTTYPE=text/html:<a href='/roosendaal/agenda/2026/4/24/de-zonnebloem-bingo-471860'>/roosendaal/agenda/2026/4/24/de-zonnebloem-bingo-471860</a> || <p>Op vrijdag 24 april organiseren de Zonnebloemafdelingen Heerle-Moerstraten, Tolberg en Kalsdonk gemeente Roosendaal een regionale bingo in de (verwarmde) tent op de Markt te Wouw. Er zijn mooie prijzen te winnen, zoals sieraden, dekbedden, dinerbonnen, smulpakketten, etc.<br />De tent is open om 13.00 uur en de aanvang is om 13.30 uur. Iedereen is welkom!</p>
DESCRIPTION:<a href='/roosendaal/agenda/2026/4/24/de-zonnebloem-bingo-471860'>/roosendaal/agenda/2026/4/24/de-zonnebloem-bingo-471860</a> || <p>Op vrijdag 24 april organiseren de Zonnebloemafdelingen Heerle-Moerstraten, Tolberg en Kalsdonk gemeente Roosendaal een regionale bingo in de (verwarmde) tent op de Markt te Wouw. Er zijn mooie prijzen te winnen, zoals sieraden, dekbedden, dinerbonnen, smulpakketten, etc.<br />De tent is open om 13.00 uur en de aanvang is om 13.30 uur. Iedereen is welkom!</p>
LAST-MODIFIED:20260421T083138Z
LOCATION: Markt | Markt  Wouw
SEQUENCE:0
STATUS:CONFIRMED
SUMMARY:De Zonnebloem bingo
TRANSP:OPAQUE
END:VEVENT
END:VCALENDAR
