BEGIN:VCALENDAR
PRODID:-//PUBBLE//agenda//NL
VERSION:2.0
METHOD:PUBLISH
BEGIN:VEVENT
DTSTART:20260427T130000Z
DTEND:20260427T150000Z
DTSTAMP:20260421T122409Z
UID:5f1ad744-9d84-4025-8636-e248effc22a3
CREATED:20260421T122409Z
NAME:IQ feestje voor de koning internetbode.nl
X-WR-CALNAME:IQ feestje voor de koning
X-ALT-DESC;FMTTYPE=text/html:<a href='/roosendaal/agenda/2026/4/27/iq-feestje-voor-de-koning-471931'>/roosendaal/agenda/2026/4/27/iq-feestje-voor-de-koning-471931</a> || <p>Het gaat een écht feestje worden op 27 april op de Kaai. Hun bolhoed zal er extra feestelijk uitzien middels een oranje lint, maar ze doen meer. Ze gaan zorgen dat er op deze feestelijke dag volop meegezongen kan worden terwijl ze proosten op de verjaardag van de koning. Meezingteksten zullen ze uitdelen aan de aanwezigen, voor alle 3 de muziekblokken die ze ten gehore brengen. Maar ook publieke participatie zal onderdeel zijn van de feestelijkheden. Enkele aanwezigen zullen namelijk mee kunnen beslissen welke nummers worden gespeeld deze middag. Ze starten bewust om 15.00 uur. Hierdoor heeft iedereen eerst rustig de tijd om alle vrijmarkten en andere activiteiten in de stad te bezoeken voordat men afzakt naar De Kaai. In een gemoedelijke sfeer kan men dan, onder het genot van een oranje bitter, een fris getapt glas gerstenat of ander drankje genieten van het IQ Aarmoei-nieke Koningsdag feestconcert. Heerlijk meezingen in een ambiance die perfect past bij koningsdag. Voel u wel welkom!</p>
DESCRIPTION:<a href='/roosendaal/agenda/2026/4/27/iq-feestje-voor-de-koning-471931'>/roosendaal/agenda/2026/4/27/iq-feestje-voor-de-koning-471931</a> || <p>Het gaat een écht feestje worden op 27 april op de Kaai. Hun bolhoed zal er extra feestelijk uitzien middels een oranje lint, maar ze doen meer. Ze gaan zorgen dat er op deze feestelijke dag volop meegezongen kan worden terwijl ze proosten op de verjaardag van de koning. Meezingteksten zullen ze uitdelen aan de aanwezigen, voor alle 3 de muziekblokken die ze ten gehore brengen. Maar ook publieke participatie zal onderdeel zijn van de feestelijkheden. Enkele aanwezigen zullen namelijk mee kunnen beslissen welke nummers worden gespeeld deze middag. Ze starten bewust om 15.00 uur. Hierdoor heeft iedereen eerst rustig de tijd om alle vrijmarkten en andere activiteiten in de stad te bezoeken voordat men afzakt naar De Kaai. In een gemoedelijke sfeer kan men dan, onder het genot van een oranje bitter, een fris getapt glas gerstenat of ander drankje genieten van het IQ Aarmoei-nieke Koningsdag feestconcert. Heerlijk meezingen in een ambiance die perfect past bij koningsdag. Voel u wel welkom!</p>
LAST-MODIFIED:20260421T122409Z
LOCATION: Café De Veestallen | Kade 65 Roosendaal
SEQUENCE:0
STATUS:CONFIRMED
SUMMARY:IQ feestje voor de koning
TRANSP:OPAQUE
END:VEVENT
END:VCALENDAR
