BEGIN:VCALENDAR
PRODID:-//PUBBLE//agenda//NL
VERSION:2.0
METHOD:PUBLISH
BEGIN:VEVENT
DTSTART:20260403T142743Z
DTEND:20260403T152743Z
DTSTAMP:20260420T142924Z
UID:ecb81fb9-4edb-4497-999b-27750611f649
CREATED:20260420T142924Z
NAME:Draaidag in het Van Osch museum internetbode.nl
X-WR-CALNAME:Draaidag in het Van Osch museum
X-ALT-DESC;FMTTYPE=text/html:<a href='/etten-leur/agenda/2026/4/18/draaidag-in-het-van-osch-museum-472093'>/etten-leur/agenda/2026/4/18/draaidag-in-het-van-osch-museum-472093</a> || <p>Zaterdag 18 april vanaf 11.00u. draaidag in het Van Osch Museum. De stoommachine, een zgn. compound-machine staat klaar om zich te laten bewonderen. Deze is afgelopen winter gerestaureerd en in de oude staat hersteld. Wij willen je graag nog veel meer vertellen van De Klop machine, maar ook over onze andere machines en museumstukken. Volgende draaidagen: 9 mei, 6 juni, 4 juli, 29 augustus en 26 september. Info: 06-53441713, www.hetvanoschmuseum</p>
DESCRIPTION:<a href='/etten-leur/agenda/2026/4/18/draaidag-in-het-van-osch-museum-472093'>/etten-leur/agenda/2026/4/18/draaidag-in-het-van-osch-museum-472093</a> || <p>Zaterdag 18 april vanaf 11.00u. draaidag in het Van Osch Museum. De stoommachine, een zgn. compound-machine staat klaar om zich te laten bewonderen. Deze is afgelopen winter gerestaureerd en in de oude staat hersteld. Wij willen je graag nog veel meer vertellen van De Klop machine, maar ook over onze andere machines en museumstukken. Volgende draaidagen: 9 mei, 6 juni, 4 juli, 29 augustus en 26 september. Info: 06-53441713, www.hetvanoschmuseum</p>
LAST-MODIFIED:20260420T142924Z
LOCATION: Van Osch Museum | Achter de Molen 108 Etten-Leur
SEQUENCE:0
STATUS:CONFIRMED
SUMMARY:Draaidag in het Van Osch museum
TRANSP:OPAQUE
END:VEVENT
END:VCALENDAR
