BEGIN:VCALENDAR
PRODID:-//PUBBLE//agenda//NL
VERSION:2.0
METHOD:PUBLISH
BEGIN:VEVENT
DTSTART:20260426T074500Z
DTEND:20260426T084500Z
DTSTAMP:20260423T091259Z
UID:562d3aa4-e72a-4ab7-aff0-f7da6e95771c
CREATED:20260423T091259Z
NAME:Zondagsviering Elisabethkapel internetbode.nl
X-WR-CALNAME:Zondagsviering Elisabethkapel
X-ALT-DESC;FMTTYPE=text/html:<a href='/roosendaal/agenda/2026/4/26/zondagsviering-elisabethkapel-472152'>/roosendaal/agenda/2026/4/26/zondagsviering-elisabethkapel-472152</a> || <p>U bent van harte welkom bij de zondagsviering van de zusters Franciscanessen van Mariadal. Aanvang 9.45 uur in de Elisabethkapel, Wouwseweg 21, Roosendaal. Voorganger: Jeroen Houben.</p>
DESCRIPTION:<a href='/roosendaal/agenda/2026/4/26/zondagsviering-elisabethkapel-472152'>/roosendaal/agenda/2026/4/26/zondagsviering-elisabethkapel-472152</a> || <p>U bent van harte welkom bij de zondagsviering van de zusters Franciscanessen van Mariadal. Aanvang 9.45 uur in de Elisabethkapel, Wouwseweg 21, Roosendaal. Voorganger: Jeroen Houben.</p>
LAST-MODIFIED:20260423T091259Z
LOCATION: Elisabethkapel |   Roosendaal
SEQUENCE:0
STATUS:CONFIRMED
SUMMARY:Zondagsviering Elisabethkapel
TRANSP:OPAQUE
END:VEVENT
END:VCALENDAR
