BEGIN:VCALENDAR
PRODID:-//PUBBLE//agenda//NL
VERSION:2.0
METHOD:PUBLISH
BEGIN:VEVENT
DTSTART:20260410T141208Z
DTEND:20260410T151208Z
DTSTAMP:20260421T165727Z
UID:2df03f3a-164b-4cdf-800b-864be774b1d8
CREATED:20260421T165727Z
NAME:One Battle After Another bij Cine7 internetbode.nl
X-WR-CALNAME:One Battle After Another bij Cine7
X-ALT-DESC;FMTTYPE=text/html:<a href='/moerdijk/agenda/2026/4/17/one-battle-after-another-bij-cine7-472434'>/moerdijk/agenda/2026/4/17/one-battle-after-another-bij-cine7-472434</a> || <p>Deze film gaat over de paranoïde ex-revolutionair Bob (Leonardo DiCaprio), die ooit deel uitmaakte van de activistische rebellengroep The French 75 en op zoek gaat naar zijn vermiste dochter. Wat volgt is een zeer meeslepend kat-en-muisspel met een haarfijn gevoel voor de tijdsgeest van het moderne Amerika. De voorstellingen van Cine7 zijn in Theater De Schuur. Aanvang 20.00u. zaal open 19.30u.</p>
DESCRIPTION:<a href='/moerdijk/agenda/2026/4/17/one-battle-after-another-bij-cine7-472434'>/moerdijk/agenda/2026/4/17/one-battle-after-another-bij-cine7-472434</a> || <p>Deze film gaat over de paranoïde ex-revolutionair Bob (Leonardo DiCaprio), die ooit deel uitmaakte van de activistische rebellengroep The French 75 en op zoek gaat naar zijn vermiste dochter. Wat volgt is een zeer meeslepend kat-en-muisspel met een haarfijn gevoel voor de tijdsgeest van het moderne Amerika. De voorstellingen van Cine7 zijn in Theater De Schuur. Aanvang 20.00u. zaal open 19.30u.</p>
LAST-MODIFIED:20260421T165727Z
LOCATION: Theater De Schuur | Kerkstraat 23 Zevenbergen
SEQUENCE:0
STATUS:CONFIRMED
SUMMARY:One Battle After Another bij Cine7
TRANSP:OPAQUE
END:VEVENT
END:VCALENDAR
