BEGIN:VCALENDAR
PRODID:-//PUBBLE//agenda//NL
VERSION:2.0
METHOD:PUBLISH
BEGIN:VEVENT
DTSTART:20260420T180000Z
DTEND:20260420T200000Z
DTSTAMP:20260420T073117Z
UID:30e92a03-2777-4714-b2a7-f4c31e2c3caf
CREATED:20260420T073117Z
NAME:B.E. Sprekersacademie over suiker internetbode.nl
X-WR-CALNAME:B.E. Sprekersacademie over suiker
X-ALT-DESC;FMTTYPE=text/html:<a href='/halderberge/agenda/2026/4/20/b-e-sprekersacademie-over-suiker-472502'>/halderberge/agenda/2026/4/20/b-e-sprekersacademie-over-suiker-472502</a> || <p>De Bredase cineast Raoul de Zwart komt op maandag 20 april vertellen over de geschiedenis van de teelt van de suikerbiet en de verwerking daarvan in onze regio. Hij heeft daar in 2021 een film over gemaakt en beschikt over veel kennis en beeldmateriaal. Behalve een interessant verhaal belooft het daarmee ook een visueel spektakel te worden. Aanvang 20.00 u. Tickets à € 12,50 via www.fideietarti.nl</p>
DESCRIPTION:<a href='/halderberge/agenda/2026/4/20/b-e-sprekersacademie-over-suiker-472502'>/halderberge/agenda/2026/4/20/b-e-sprekersacademie-over-suiker-472502</a> || <p>De Bredase cineast Raoul de Zwart komt op maandag 20 april vertellen over de geschiedenis van de teelt van de suikerbiet en de verwerking daarvan in onze regio. Hij heeft daar in 2021 een film over gemaakt en beschikt over veel kennis en beeldmateriaal. Behalve een interessant verhaal belooft het daarmee ook een visueel spektakel te worden. Aanvang 20.00 u. Tickets à € 12,50 via www.fideietarti.nl</p>
LAST-MODIFIED:20260420T073117Z
LOCATION: Fidei et Arti | Past Hellemonsstraat 1 Oudenbosch
SEQUENCE:0
STATUS:CONFIRMED
SUMMARY:B.E. Sprekersacademie over suiker
TRANSP:OPAQUE
END:VEVENT
END:VCALENDAR
