BEGIN:VCALENDAR
PRODID:-//PUBBLE//agenda//NL
VERSION:2.0
METHOD:PUBLISH
BEGIN:VEVENT
DTSTART:20260417T160000Z
DTEND:20260417T190000Z
DTSTAMP:20260421T165838Z
UID:4b379c66-6537-4ca2-a5da-416f430ebd6d
CREATED:20260421T165838Z
NAME:Worstenbroodjesactie vv Achtmaal internetbode.nl
X-WR-CALNAME:Worstenbroodjesactie vv Achtmaal
X-ALT-DESC;FMTTYPE=text/html:<a href='/zundert/agenda/2026/4/17/worstenbroodjesactie-vv-achtmaal-472555'>/zundert/agenda/2026/4/17/worstenbroodjesactie-vv-achtmaal-472555</a> || <p>Vrijdag 17 april tussen 18.00 en 21.00 uur komen de jeugdleden van v.v. Achtmaal langs de deuren in Achtmaal en omgeving om heerlijke worstenbroodjes te verkopen. De opbrengst van de actie is bestemd voor het jeugdkamp.&nbsp;</p>
DESCRIPTION:<a href='/zundert/agenda/2026/4/17/worstenbroodjesactie-vv-achtmaal-472555'>/zundert/agenda/2026/4/17/worstenbroodjesactie-vv-achtmaal-472555</a> || <p>Vrijdag 17 april tussen 18.00 en 21.00 uur komen de jeugdleden van v.v. Achtmaal langs de deuren in Achtmaal en omgeving om heerlijke worstenbroodjes te verkopen. De opbrengst van de actie is bestemd voor het jeugdkamp.&nbsp;</p>
LAST-MODIFIED:20260421T165838Z
LOCATION: Achtmaal |   Achtmaal
SEQUENCE:0
STATUS:CONFIRMED
SUMMARY:Worstenbroodjesactie vv Achtmaal
TRANSP:OPAQUE
END:VEVENT
END:VCALENDAR
