BEGIN:VCALENDAR
PRODID:-//PUBBLE//agenda//NL
VERSION:2.0
METHOD:PUBLISH
BEGIN:VEVENT
DTSTART:20260414T075843Z
DTEND:20260414T085843Z
DTSTAMP:20260420T073439Z
UID:5dcac245-fd08-4902-b620-953bf38b9fa3
CREATED:20260420T073439Z
NAME:Film: Song sung blue internetbode.nl
X-WR-CALNAME:Film: Song sung blue
X-ALT-DESC;FMTTYPE=text/html:<a href='/halderberge/agenda/2026/4/20/film-song-sung-blue-472568'>/halderberge/agenda/2026/4/20/film-song-sung-blue-472568</a> || <p>Het echtpaar Mike en Claire, beiden met kinderen uit een eerdere relatie, zijn twee straatarme muzikanten uit het Milwaukee van de jaren 90. Als ze samen met nog een aantal muzikanten een Neil Diamond-tributeband met de naam Lightening &amp; Thunder vormen, hebben ze daar zowaar succes mee en staan ze zelfs in het voorprogramma van Pearl Jam. Tot een tragische gebeurtenis roet in het eten gooit. Fidei et Arti, Pastoor Hellemonsstraat 1 in Oudenbosch. www.filmtheaterfanfare.nl</p>
DESCRIPTION:<a href='/halderberge/agenda/2026/4/20/film-song-sung-blue-472568'>/halderberge/agenda/2026/4/20/film-song-sung-blue-472568</a> || <p>Het echtpaar Mike en Claire, beiden met kinderen uit een eerdere relatie, zijn twee straatarme muzikanten uit het Milwaukee van de jaren 90. Als ze samen met nog een aantal muzikanten een Neil Diamond-tributeband met de naam Lightening &amp; Thunder vormen, hebben ze daar zowaar succes mee en staan ze zelfs in het voorprogramma van Pearl Jam. Tot een tragische gebeurtenis roet in het eten gooit. Fidei et Arti, Pastoor Hellemonsstraat 1 in Oudenbosch. www.filmtheaterfanfare.nl</p>
LAST-MODIFIED:20260420T073439Z
LOCATION: Fidei et Arti | Pastoor Hellemonsstraat 1 Oudenbosch
SEQUENCE:0
STATUS:CONFIRMED
SUMMARY:Film: Song sung blue
TRANSP:OPAQUE
END:VEVENT
END:VCALENDAR
