BEGIN:VCALENDAR
PRODID:-//PUBBLE//agenda//NL
VERSION:2.0
METHOD:PUBLISH
BEGIN:VEVENT
DTSTART:20260414T092202Z
DTEND:20260414T102202Z
DTSTAMP:20260420T143006Z
UID:d515e6af-1024-44ba-af45-62bf6fd4c1d4
CREATED:20260420T143006Z
NAME:Stichting Oude Stijl Jazz Etten-Leur internetbode.nl
X-WR-CALNAME:Stichting Oude Stijl Jazz Etten-Leur
X-ALT-DESC;FMTTYPE=text/html:<a href='/etten-leur/agenda/2026/4/19/stichting-oude-stijl-jazz-etten-leur-472583'>/etten-leur/agenda/2026/4/19/stichting-oude-stijl-jazz-etten-leur-472583</a> || <p>Zondag 19 april vindt het laatste concert van dit seizoen plaats. Te gast is het orkest The Dixie Boys jazzband. The Dixie Boys jazzband bestaat uit een zestal enthousiaste muzikanten. Het merendeel van de muzikanten komt uit de regio Tilburg en maakten deel uit van bekende Tilburgse jazz orkesten zoals, The Wooltown jazzband, The South Jazzband en The Jolly Boys. Zij spelen gezellige Dixieland muziek met een keur aan herkenbare nummers waarop door liefhebbers naar hartenlust kan worden gedanst. Zondag 19 april, aanvang 14.00 uur in De Linde, Wipakker 16 in Etten-Leur. Entree: € 3,50</p>
DESCRIPTION:<a href='/etten-leur/agenda/2026/4/19/stichting-oude-stijl-jazz-etten-leur-472583'>/etten-leur/agenda/2026/4/19/stichting-oude-stijl-jazz-etten-leur-472583</a> || <p>Zondag 19 april vindt het laatste concert van dit seizoen plaats. Te gast is het orkest The Dixie Boys jazzband. The Dixie Boys jazzband bestaat uit een zestal enthousiaste muzikanten. Het merendeel van de muzikanten komt uit de regio Tilburg en maakten deel uit van bekende Tilburgse jazz orkesten zoals, The Wooltown jazzband, The South Jazzband en The Jolly Boys. Zij spelen gezellige Dixieland muziek met een keur aan herkenbare nummers waarop door liefhebbers naar hartenlust kan worden gedanst. Zondag 19 april, aanvang 14.00 uur in De Linde, Wipakker 16 in Etten-Leur. Entree: € 3,50</p>
LAST-MODIFIED:20260420T143006Z
LOCATION: De Linde | Wipakker 16 Etten-Leur
SEQUENCE:0
STATUS:CONFIRMED
SUMMARY:Stichting Oude Stijl Jazz Etten-Leur
TRANSP:OPAQUE
END:VEVENT
END:VCALENDAR
