BEGIN:VCALENDAR
PRODID:-//PUBBLE//agenda//NL
VERSION:2.0
METHOD:PUBLISH
BEGIN:VEVENT
DTSTART:20260424T190000Z
DTEND:20260424T235900Z
DTSTAMP:20260424T170349Z
UID:3c42a4a0-5e7a-45ab-aa8d-167d15ef2b29
CREATED:20260424T170349Z
NAME:Roots Reggae uit Boston in De Piek internetbode.nl
X-WR-CALNAME:Roots Reggae uit Boston in De Piek
X-ALT-DESC;FMTTYPE=text/html:<a href='/vlissingse-bode/agenda/2026/4/24/roots-reggae-uit-boston-in-de-piek-472608'>/vlissingse-bode/agenda/2026/4/24/roots-reggae-uit-boston-in-de-piek-472608</a> || <p>The Reggaeband Flying Vipers ~uit Boston USA is een zevenkoppige formatie  die bestaat uit de tweelingbroers Marc &amp; John Beaudette op drums &amp; bas (Destroy Babylon, The Macrotones), Zack Brines op keyboards (Pressure Cooker, 10 Ft Ganja Plant, Kings of Nuthin’) en Kellee Webb op zang (DB, Tiger Witch). Ze hebben meer dan twintig jaar ervaring in de New England-scene en hebben het podium gedeeld met legendarische reggae-artiesten van over de hele wereld, waaronder Burning Spear, Lee “Scratch” Perry, Steel Pulse, de Skatalites en Hollie Cook, om er maar een paar te noemen. Op hun 1e Euro tour doen ze ook Vlissingen aan!High Tide Soundsytem verzorg een fijne mix van roots reggae en dub. </p>
DESCRIPTION:<a href='/vlissingse-bode/agenda/2026/4/24/roots-reggae-uit-boston-in-de-piek-472608'>/vlissingse-bode/agenda/2026/4/24/roots-reggae-uit-boston-in-de-piek-472608</a> || <p>The Reggaeband Flying Vipers ~uit Boston USA is een zevenkoppige formatie  die bestaat uit de tweelingbroers Marc &amp; John Beaudette op drums &amp; bas (Destroy Babylon, The Macrotones), Zack Brines op keyboards (Pressure Cooker, 10 Ft Ganja Plant, Kings of Nuthin’) en Kellee Webb op zang (DB, Tiger Witch). Ze hebben meer dan twintig jaar ervaring in de New England-scene en hebben het podium gedeeld met legendarische reggae-artiesten van over de hele wereld, waaronder Burning Spear, Lee “Scratch” Perry, Steel Pulse, de Skatalites en Hollie Cook, om er maar een paar te noemen. Op hun 1e Euro tour doen ze ook Vlissingen aan!High Tide Soundsytem verzorg een fijne mix van roots reggae en dub. </p>
LAST-MODIFIED:20260424T170349Z
LOCATION: Podium De Piek | Hellebardierstraat 13 Vlissingen
SEQUENCE:0
STATUS:CONFIRMED
SUMMARY:Roots Reggae uit Boston in De Piek
TRANSP:OPAQUE
END:VEVENT
END:VCALENDAR
