BEGIN:VCALENDAR
PRODID:-//PUBBLE//agenda//NL
VERSION:2.0
METHOD:PUBLISH
BEGIN:VEVENT
DTSTART:20260415T084201Z
DTEND:20260415T094201Z
DTSTAMP:20260423T102716Z
UID:b6f91262-19c7-4b5c-98bb-7f57d4979d05
CREATED:20260423T102716Z
NAME:Wandel gezellig mee met onze Lentewandeling. internetbode.nl
X-WR-CALNAME:Wandel gezellig mee met onze Lentewandeling.
X-ALT-DESC;FMTTYPE=text/html:<a href='/roosendaal/agenda/2026/5/3/wandel-gezellig-mee-met-onze-lentewandeling--472657'>/roosendaal/agenda/2026/5/3/wandel-gezellig-mee-met-onze-lentewandeling--472657</a> || <p>Stichting Sta(p) Voor Elkaar is geen wandelvereniging, maar organiseert 3 Lentewandelingen: 4 km, 8 km en 13 km op zondag 3 mei a.s. om geld in te zamelen voor mensen met kanker die in behandeling zijn of zijn geweest om een Steuntje te kunnen geven. Zo’n Steuntje kan variëren van een mooie bos bloemen, een boek, een lunchbon tot bijv. een bijdrage voor een beter haarstuk etc. Iedereen kan zo’n Steuntje aanvragen voor iemand anders, woonachtig in Roosendaal of omliggende dorpen, je hoeft nergens lid van te zijn. Een aanvraag kan worden gedaan via <a data-fr-linked="true" href="mailto:info@stapvoorelkaar.nl">info@stapvoorelkaar.nl</a>. Vertrek is zondag 3 mei tussen 9.00-10.00 uur bij Café Tivoli, Kerkplein 6 in Nispen.</p>
DESCRIPTION:<a href='/roosendaal/agenda/2026/5/3/wandel-gezellig-mee-met-onze-lentewandeling--472657'>/roosendaal/agenda/2026/5/3/wandel-gezellig-mee-met-onze-lentewandeling--472657</a> || <p>Stichting Sta(p) Voor Elkaar is geen wandelvereniging, maar organiseert 3 Lentewandelingen: 4 km, 8 km en 13 km op zondag 3 mei a.s. om geld in te zamelen voor mensen met kanker die in behandeling zijn of zijn geweest om een Steuntje te kunnen geven. Zo’n Steuntje kan variëren van een mooie bos bloemen, een boek, een lunchbon tot bijv. een bijdrage voor een beter haarstuk etc. Iedereen kan zo’n Steuntje aanvragen voor iemand anders, woonachtig in Roosendaal of omliggende dorpen, je hoeft nergens lid van te zijn. Een aanvraag kan worden gedaan via <a data-fr-linked="true" href="mailto:info@stapvoorelkaar.nl">info@stapvoorelkaar.nl</a>. Vertrek is zondag 3 mei tussen 9.00-10.00 uur bij Café Tivoli, Kerkplein 6 in Nispen.</p>
LAST-MODIFIED:20260423T102716Z
LOCATION: Café Tivoli  | Kerkplein 6 Nispen
SEQUENCE:0
STATUS:CONFIRMED
SUMMARY:Wandel gezellig mee met onze Lentewandeling.
TRANSP:OPAQUE
END:VEVENT
END:VCALENDAR
