BEGIN:VCALENDAR
PRODID:-//PUBBLE//agenda//NL
VERSION:2.0
METHOD:PUBLISH
BEGIN:VEVENT
DTSTART:20260415T090950Z
DTEND:20260415T100950Z
DTSTAMP:20260421T102355Z
UID:17f1a8c9-788c-4bfc-89e4-4524ffaf2db5
CREATED:20260421T102355Z
NAME:Bijeenkomst Prikkelbare Darm Syndroom internetbode.nl
X-WR-CALNAME:Bijeenkomst Prikkelbare Darm Syndroom
X-ALT-DESC;FMTTYPE=text/html:<a href='/roosendaal/agenda/2026/4/21/bijeenkomst-prikkelbare-darm-syndroom-472665'>/roosendaal/agenda/2026/4/21/bijeenkomst-prikkelbare-darm-syndroom-472665</a> || <p>PDS is een chronische darmaandoening waarbij je vooral buikpijn en ontlastingsproblemen hebt. Er zijn heel veel mensen die in meer of mindere mate last hebben van PDS, maar toch voelen veel mensen zich alleen. Een reden hiervoor is dat we er dus niet graag over praten, bijvoorbeeld uit schaamte. Rondom Wereld PDS dag worden er wereldwijd allerlei evenementen georganiseerd en staat bewustwording en voorlichting centraal. Ook dit jaar worden er door de PDSB in het kader van Wereld PDS dag door het land weer verschillende informele bijeenkomsten georganiseerd. Op dinsdag 21 april is er een bijeenkomst in Wijkcentrum de Bergspil, Tolbergcentrum 158 in Roosendaal en op woensdag 22 april in Gezondheidscentrum de Bank, Dorpsstraat 63 in Halsteren. Aanvang beide dagen 19.30 uur. Aanmelden en meer info: www.pdsb.nl/activiteiten</p>
DESCRIPTION:<a href='/roosendaal/agenda/2026/4/21/bijeenkomst-prikkelbare-darm-syndroom-472665'>/roosendaal/agenda/2026/4/21/bijeenkomst-prikkelbare-darm-syndroom-472665</a> || <p>PDS is een chronische darmaandoening waarbij je vooral buikpijn en ontlastingsproblemen hebt. Er zijn heel veel mensen die in meer of mindere mate last hebben van PDS, maar toch voelen veel mensen zich alleen. Een reden hiervoor is dat we er dus niet graag over praten, bijvoorbeeld uit schaamte. Rondom Wereld PDS dag worden er wereldwijd allerlei evenementen georganiseerd en staat bewustwording en voorlichting centraal. Ook dit jaar worden er door de PDSB in het kader van Wereld PDS dag door het land weer verschillende informele bijeenkomsten georganiseerd. Op dinsdag 21 april is er een bijeenkomst in Wijkcentrum de Bergspil, Tolbergcentrum 158 in Roosendaal en op woensdag 22 april in Gezondheidscentrum de Bank, Dorpsstraat 63 in Halsteren. Aanvang beide dagen 19.30 uur. Aanmelden en meer info: www.pdsb.nl/activiteiten</p>
LAST-MODIFIED:20260421T102355Z
LOCATION: wijkcentrum De Bergspil | Tolbergcentrum 158 roosendaal
SEQUENCE:0
STATUS:CONFIRMED
SUMMARY:Bijeenkomst Prikkelbare Darm Syndroom
TRANSP:OPAQUE
END:VEVENT
END:VCALENDAR
