BEGIN:VCALENDAR
PRODID:-//PUBBLE//agenda//NL
VERSION:2.0
METHOD:PUBLISH
BEGIN:VEVENT
DTSTART:20260603T120000Z
DTEND:20260603T150000Z
DTSTAMP:20260421T114257Z
UID:15f569ed-2d33-4c17-a8a5-c055e996e2f4
CREATED:20260421T114257Z
NAME:Game design met Roblox Studio internetbode.nl
X-WR-CALNAME:Game design met Roblox Studio
X-ALT-DESC;FMTTYPE=text/html:<a href='/roosendaal/agenda/2026/6/3/game-design-met-roblox-studio-472812'>/roosendaal/agenda/2026/6/3/game-design-met-roblox-studio-472812</a> || <p>In deze MediaLab mini-workshop in de bieb in Roosendaal maak je kennis met het programma Roblox Studio. Je leert de beginselen van het maken van je eigen game. <br>Met Roblox Studio heb je toegang tot allerlei handige tools en modellen waarmee je binnen een handomdraai je eigen interactieve ervaring in elkaar kunt zetten.  <br><br><strong>Bibliotheek in Roosendaal</strong>, Markt 54a<br>Woensdag 3 juni, van 14:00 - 17:00 uur<br><br>Deelname is voor iedereen gratis. Ook als je geen lid bent van de bibliotheek. <br>Wel vooraf aanmelden via www.bibliotheekwb.nl. Zoek in de agenda op ‘Roblox’.</p>
DESCRIPTION:<a href='/roosendaal/agenda/2026/6/3/game-design-met-roblox-studio-472812'>/roosendaal/agenda/2026/6/3/game-design-met-roblox-studio-472812</a> || <p>In deze MediaLab mini-workshop in de bieb in Roosendaal maak je kennis met het programma Roblox Studio. Je leert de beginselen van het maken van je eigen game. <br>Met Roblox Studio heb je toegang tot allerlei handige tools en modellen waarmee je binnen een handomdraai je eigen interactieve ervaring in elkaar kunt zetten.  <br><br><strong>Bibliotheek in Roosendaal</strong>, Markt 54a<br>Woensdag 3 juni, van 14:00 - 17:00 uur<br><br>Deelname is voor iedereen gratis. Ook als je geen lid bent van de bibliotheek. <br>Wel vooraf aanmelden via www.bibliotheekwb.nl. Zoek in de agenda op ‘Roblox’.</p>
LAST-MODIFIED:20260421T114257Z
LOCATION: de Bibliotheek West-Brabant | Markt 54a Roosendaal
SEQUENCE:0
STATUS:CONFIRMED
SUMMARY:Game design met Roblox Studio
TRANSP:OPAQUE
END:VEVENT
END:VCALENDAR
