BEGIN:VCALENDAR
PRODID:-//PUBBLE//agenda//NL
VERSION:2.0
METHOD:PUBLISH
BEGIN:VEVENT
DTSTART:20260417T124803Z
DTEND:20260425T150000Z
DTSTAMP:20260423T050554Z
UID:28e8dd6e-753c-4cf2-a14a-4f4231484102
CREATED:20260423T050554Z
NAME:Huiskamer van Agora open internetbode.nl
X-WR-CALNAME:Huiskamer van Agora open
X-ALT-DESC;FMTTYPE=text/html:<a href='/rucphen/agenda/2026/4/25/huiskamer-van-agora-open-472852'>/rucphen/agenda/2026/4/25/huiskamer-van-agora-open-472852</a> || <p>Zaterdag 25 april is de Huiskamer van Agora weer open van 15 tot 17 uur. Iedereen is welkom om een kopje koffie of thee te komen drinken. Elkaar ontmoeten is ons doel in een ontspannen sfeer. Wij zorgen als vrijwilligers voor een lekkere soep met stokbrood. De vrijwilligers zien u graag komen om er een gezellige middag van te maken. Er is een kleine bijdrage van 3 euro. Volgende opening van de Huiskamer: zondag 31 mei van 11 uur tot 15 uur.</p>
DESCRIPTION:<a href='/rucphen/agenda/2026/4/25/huiskamer-van-agora-open-472852'>/rucphen/agenda/2026/4/25/huiskamer-van-agora-open-472852</a> || <p>Zaterdag 25 april is de Huiskamer van Agora weer open van 15 tot 17 uur. Iedereen is welkom om een kopje koffie of thee te komen drinken. Elkaar ontmoeten is ons doel in een ontspannen sfeer. Wij zorgen als vrijwilligers voor een lekkere soep met stokbrood. De vrijwilligers zien u graag komen om er een gezellige middag van te maken. Er is een kleine bijdrage van 3 euro. Volgende opening van de Huiskamer: zondag 31 mei van 11 uur tot 15 uur.</p>
LAST-MODIFIED:20260423T050554Z
LOCATION: Gemeenschapshuis Agora | Rucphense Vaartkant 2b Rucphen
SEQUENCE:0
STATUS:CONFIRMED
SUMMARY:Huiskamer van Agora open
TRANSP:OPAQUE
END:VEVENT
END:VCALENDAR
