BEGIN:VCALENDAR
PRODID:-//PUBBLE//agenda//NL
VERSION:2.0
METHOD:PUBLISH
BEGIN:VEVENT
DTSTART:20260504T120000Z
DTEND:20260504T140000Z
DTSTAMP:20260423T050554Z
UID:55a3a958-1d0d-47a4-8320-4ef6cf10346e
CREATED:20260423T050554Z
NAME:Workshop | Oorbellen printen in 3D internetbode.nl
X-WR-CALNAME:Workshop | Oorbellen printen in 3D
X-ALT-DESC;FMTTYPE=text/html:<a href='/rucphen/agenda/2026/5/4/workshop-oorbellen-printen-in-3d-472928'>/rucphen/agenda/2026/5/4/workshop-oorbellen-printen-in-3d-472928</a> || <p>Je leert hoe je je eigen oorbellen kunt ontwerpen in het eenvoudige programma Tinkercard. Je leert en ziet ook hoe je jouw creatie kunt printen met de 3D printer. Jouw creatie wordt ook geprint; je kunt die later ophalen bij de bibliotheek.<br>Ervaring met een 3D-printer is niet nodig; het is wél handig als je wat digitale basiskennis hebt. Deelname is voor iedereen gratis. Ook als je geen lid bent van de bibliotheek. <br><br><strong>Bibliotheek in Rucphen</strong>, Binnentuin 3<br>Maandag 4 mei, 14:00 -16:00 uur<br><br><strong>Vooraf aanmelden</strong><br>Ga naar www.bibliotheekwb.nl en zoek in de agenda op ‘oorbellen maken’<br><br></p>
DESCRIPTION:<a href='/rucphen/agenda/2026/5/4/workshop-oorbellen-printen-in-3d-472928'>/rucphen/agenda/2026/5/4/workshop-oorbellen-printen-in-3d-472928</a> || <p>Je leert hoe je je eigen oorbellen kunt ontwerpen in het eenvoudige programma Tinkercard. Je leert en ziet ook hoe je jouw creatie kunt printen met de 3D printer. Jouw creatie wordt ook geprint; je kunt die later ophalen bij de bibliotheek.<br>Ervaring met een 3D-printer is niet nodig; het is wél handig als je wat digitale basiskennis hebt. Deelname is voor iedereen gratis. Ook als je geen lid bent van de bibliotheek. <br><br><strong>Bibliotheek in Rucphen</strong>, Binnentuin 3<br>Maandag 4 mei, 14:00 -16:00 uur<br><br><strong>Vooraf aanmelden</strong><br>Ga naar www.bibliotheekwb.nl en zoek in de agenda op ‘oorbellen maken’<br><br></p>
LAST-MODIFIED:20260423T050554Z
LOCATION: de Bibliotheek West-Brabant | Binnentuin 3 Rucphen
SEQUENCE:0
STATUS:CONFIRMED
SUMMARY:Workshop | Oorbellen printen in 3D
TRANSP:OPAQUE
END:VEVENT
END:VCALENDAR
