BEGIN:VCALENDAR
PRODID:-//PUBBLE//agenda//NL
VERSION:2.0
METHOD:PUBLISH
BEGIN:VEVENT
DTSTART:20260427T120000Z
DTEND:20260501T140000Z
DTSTAMP:20260422T191316Z
UID:f6008043-7b15-46c1-9610-a840a3c0619b
CREATED:20260422T191316Z
NAME:Inloopmoment internetbode.nl
X-WR-CALNAME:Inloopmoment
X-ALT-DESC;FMTTYPE=text/html:<a href='/bergen-op-zoom/agenda/2026/4/27/inloopmoment-472982'>/bergen-op-zoom/agenda/2026/4/27/inloopmoment-472982</a> || <p>De Rose-Linde is een ontmoetingsplek voor iedereen die geraakt is door kanker: mensen die zelf ziek zijn (geweest), hun naasten, mantelzorgers en nabestaanden. Van jong tot oud. Tijdens onze inloopmomenten op dinsdag en donderdag van 14.00 – 16.00 uur staan we voor je klaar met een kop koffie en een luisterend oor. Of je nu behoefte hebt aan een praatje, steun, informatie of gewoon even rust, je bent van harte welkom. Een afspraak maken is niet nodig. Locatie: Pater Dehonlaan 63.</p><p>Meer informatie?</p><p>• Bel of app naar coördinator Anita Jille: (06) 34044741 &nbsp;</p><p>• Of stuur een e-mail naar boz@deroselinde.nl&nbsp;</p><p>• Kijk op onze website&nbsp;www.deroselinde.nl voor alle activiteiten</p><p>• Volg ons op Facebook, Instagram en Linkedin via @centrumderoselinde</p>
DESCRIPTION:<a href='/bergen-op-zoom/agenda/2026/4/27/inloopmoment-472982'>/bergen-op-zoom/agenda/2026/4/27/inloopmoment-472982</a> || <p>De Rose-Linde is een ontmoetingsplek voor iedereen die geraakt is door kanker: mensen die zelf ziek zijn (geweest), hun naasten, mantelzorgers en nabestaanden. Van jong tot oud. Tijdens onze inloopmomenten op dinsdag en donderdag van 14.00 – 16.00 uur staan we voor je klaar met een kop koffie en een luisterend oor. Of je nu behoefte hebt aan een praatje, steun, informatie of gewoon even rust, je bent van harte welkom. Een afspraak maken is niet nodig. Locatie: Pater Dehonlaan 63.</p><p>Meer informatie?</p><p>• Bel of app naar coördinator Anita Jille: (06) 34044741 &nbsp;</p><p>• Of stuur een e-mail naar boz@deroselinde.nl&nbsp;</p><p>• Kijk op onze website&nbsp;www.deroselinde.nl voor alle activiteiten</p><p>• Volg ons op Facebook, Instagram en Linkedin via @centrumderoselinde</p>
LAST-MODIFIED:20260422T191316Z
LOCATION: De Rose-Linde | Pater Dehonlaan 63 Bergen op Zoom
SEQUENCE:0
STATUS:CONFIRMED
SUMMARY:Inloopmoment
TRANSP:OPAQUE
END:VEVENT
END:VCALENDAR
