BEGIN:VCALENDAR
PRODID:-//PUBBLE//agenda//NL
VERSION:2.0
METHOD:PUBLISH
BEGIN:VEVENT
DTSTART:20260430T120000Z
DTEND:20260430T140000Z
DTSTAMP:20260422T212251Z
UID:1ba34552-017f-4215-8922-3a7516c76bd7
CREATED:20260422T212251Z
NAME:Samen wandelen internetbode.nl
X-WR-CALNAME:Samen wandelen
X-ALT-DESC;FMTTYPE=text/html:<a href='/bergen-op-zoom/agenda/2026/4/30/samen-wandelen-472983'>/bergen-op-zoom/agenda/2026/4/30/samen-wandelen-472983</a> || <p>Even eruit, de frisse lucht in. Wandelen is niet alleen goed voor je lichaam, maar helpt ook om je hoofd leeg te maken. Bij De Rose-Linde kun je iedere donderdag wandelen, speciaal voor iedereen die geraakt is door kanker. Ervaar de kracht van samen buiten zijn, in een ontspannen sfeer en met ruimte voor een goed gesprek. Start: 14.00 uur, Pater Dehonlaan 63.&nbsp;</p><p>Meer informatie of aanmelden?</p><p>• Bel of app naar Anita Jille (06) 34044741</p><p>• Of stuur een e-mail naar boz@deroselinde.nl&nbsp;</p><p>• Kijk op onze website&nbsp;www.deroselinde.nl voor alle activiteiten</p><p>• Volg ons op Facebook, Instagram en Linkedin via @centrumderoselinde</p>
DESCRIPTION:<a href='/bergen-op-zoom/agenda/2026/4/30/samen-wandelen-472983'>/bergen-op-zoom/agenda/2026/4/30/samen-wandelen-472983</a> || <p>Even eruit, de frisse lucht in. Wandelen is niet alleen goed voor je lichaam, maar helpt ook om je hoofd leeg te maken. Bij De Rose-Linde kun je iedere donderdag wandelen, speciaal voor iedereen die geraakt is door kanker. Ervaar de kracht van samen buiten zijn, in een ontspannen sfeer en met ruimte voor een goed gesprek. Start: 14.00 uur, Pater Dehonlaan 63.&nbsp;</p><p>Meer informatie of aanmelden?</p><p>• Bel of app naar Anita Jille (06) 34044741</p><p>• Of stuur een e-mail naar boz@deroselinde.nl&nbsp;</p><p>• Kijk op onze website&nbsp;www.deroselinde.nl voor alle activiteiten</p><p>• Volg ons op Facebook, Instagram en Linkedin via @centrumderoselinde</p>
LAST-MODIFIED:20260422T212251Z
LOCATION: De Rose-Linde | Pater Dehonlaan 63 Bergen op Zoom
SEQUENCE:0
STATUS:CONFIRMED
SUMMARY:Samen wandelen
TRANSP:OPAQUE
END:VEVENT
END:VCALENDAR
