BEGIN:VCALENDAR
PRODID:-//PUBBLE//agenda//NL
VERSION:2.0
METHOD:PUBLISH
BEGIN:VEVENT
DTSTART:20260421T102125Z
DTEND:20260421T112125Z
DTSTAMP:20260423T050554Z
UID:82bc1b64-d275-4f53-ba1b-699518e1d30d
CREATED:20260423T050554Z
NAME:Kledinginzamelingsactie internetbode.nl
X-WR-CALNAME:Kledinginzamelingsactie
X-ALT-DESC;FMTTYPE=text/html:<a href='/rucphen/agenda/2026/5/8/kledinginzamelingsactie-473002'>/rucphen/agenda/2026/5/8/kledinginzamelingsactie-473002</a> || <p>Basisschool Vinkenbos houdt een kledinginzamelingsactie. We verzamelen voor onze basisschool kleding, lakens, gordijnen, pluche beesten, riemen, handtassen en schoenen in. De inzameling zal besteed worden aan speelmateriaal voor de kinderen. U kunt de zakken brengen naar het Kloosterplein op 8 mei van 8.00-9.00u en 11.45-12.30u.</p>
DESCRIPTION:<a href='/rucphen/agenda/2026/5/8/kledinginzamelingsactie-473002'>/rucphen/agenda/2026/5/8/kledinginzamelingsactie-473002</a> || <p>Basisschool Vinkenbos houdt een kledinginzamelingsactie. We verzamelen voor onze basisschool kleding, lakens, gordijnen, pluche beesten, riemen, handtassen en schoenen in. De inzameling zal besteed worden aan speelmateriaal voor de kinderen. U kunt de zakken brengen naar het Kloosterplein op 8 mei van 8.00-9.00u en 11.45-12.30u.</p>
LAST-MODIFIED:20260423T050554Z
LOCATION: basisschool Vinkenbos | Hertogstraat 11 Sprundel
SEQUENCE:0
STATUS:CONFIRMED
SUMMARY:Kledinginzamelingsactie
TRANSP:OPAQUE
END:VEVENT
END:VCALENDAR
