BEGIN:VCALENDAR
PRODID:-//PUBBLE//agenda//NL
VERSION:2.0
METHOD:PUBLISH
BEGIN:VEVENT
DTSTART:20260421T161913Z
DTEND:20260421T171913Z
DTSTAMP:20260422T212251Z
UID:1ab4a8c5-280c-4364-a3e2-3d608644cb7a
CREATED:20260422T212251Z
NAME:Herdenkingsconcert internetbode.nl
X-WR-CALNAME:Herdenkingsconcert
X-ALT-DESC;FMTTYPE=text/html:<a href='/bergen-op-zoom/agenda/2026/5/1/herdenkingsconcert-473073'>/bergen-op-zoom/agenda/2026/5/1/herdenkingsconcert-473073</a> || <p>Op vrijdagavond 1 mei om 20:00 uur, organiseert Hét Concertkoor het Herdenkingsconcert 2026 in Theater de Maagd Bergen op Zoom met een programma geheel gewijd aan de componist Mozart. Uitgevoerd worden twee van zijn beroemdste en meest geliefde vocale werken: de Krönungsmesse en het Requiem. Daarnaast klinkt het Pianoconcert No. 10, het enige concert dat Mozart componeerde voor twee piano’s en orkest. De pianosolisten zijn toptalenten van de Davidsbündler Music Academy, Den Haag.</p><p>Naast Hét Concertkoor zijn de uitvoerenden de vier vocale solisten Elles Venhuizen, Yuliia Postavnicha, Alex Vermeulen en Kris Belligh, het Amsterdam Mendelssohn Chamber Orchestra, en organist Toine Jimkes. In het pianoconcert treden vier jeugdige pianisten op: Jure Jurakic (19), Alicia Braude (15), Yulianna Beziazychna (12) en Mahault Ska (15). Het concert staat onder leiding van André Telderman. Toegangskaarten zijn verkrijgbaar via www.demaagd.nl. Alle informatie over het concert is te vinden op www.hetconcertkoor.nl.</p>
DESCRIPTION:<a href='/bergen-op-zoom/agenda/2026/5/1/herdenkingsconcert-473073'>/bergen-op-zoom/agenda/2026/5/1/herdenkingsconcert-473073</a> || <p>Op vrijdagavond 1 mei om 20:00 uur, organiseert Hét Concertkoor het Herdenkingsconcert 2026 in Theater de Maagd Bergen op Zoom met een programma geheel gewijd aan de componist Mozart. Uitgevoerd worden twee van zijn beroemdste en meest geliefde vocale werken: de Krönungsmesse en het Requiem. Daarnaast klinkt het Pianoconcert No. 10, het enige concert dat Mozart componeerde voor twee piano’s en orkest. De pianosolisten zijn toptalenten van de Davidsbündler Music Academy, Den Haag.</p><p>Naast Hét Concertkoor zijn de uitvoerenden de vier vocale solisten Elles Venhuizen, Yuliia Postavnicha, Alex Vermeulen en Kris Belligh, het Amsterdam Mendelssohn Chamber Orchestra, en organist Toine Jimkes. In het pianoconcert treden vier jeugdige pianisten op: Jure Jurakic (19), Alicia Braude (15), Yulianna Beziazychna (12) en Mahault Ska (15). Het concert staat onder leiding van André Telderman. Toegangskaarten zijn verkrijgbaar via www.demaagd.nl. Alle informatie over het concert is te vinden op www.hetconcertkoor.nl.</p>
LAST-MODIFIED:20260422T212251Z
LOCATION: De Maagd | Grote Markt 32 Bergen op Zoom
SEQUENCE:0
STATUS:CONFIRMED
SUMMARY:Herdenkingsconcert
TRANSP:OPAQUE
END:VEVENT
END:VCALENDAR
